BEGIN:VCALENDAR
VERSION:2.0
PRODID:-//Centro de Creación e Investigación Cultural &quot;La Tortuga&quot; - ECPv6.15.20//NONSGML v1.0//EN
CALSCALE:GREGORIAN
METHOD:PUBLISH
X-WR-CALNAME:Centro de Creación e Investigación Cultural &quot;La Tortuga&quot;
X-ORIGINAL-URL:https://www.centrolatortuga.com
X-WR-CALDESC:Eventos para Centro de Creación e Investigación Cultural &quot;La Tortuga&quot;
REFRESH-INTERVAL;VALUE=DURATION:PT1H
X-Robots-Tag:noindex
X-PUBLISHED-TTL:PT1H
BEGIN:VTIMEZONE
TZID:Europe/Madrid
BEGIN:DAYLIGHT
TZOFFSETFROM:+0100
TZOFFSETTO:+0200
TZNAME:CEST
DTSTART:20240331T010000
END:DAYLIGHT
BEGIN:STANDARD
TZOFFSETFROM:+0200
TZOFFSETTO:+0100
TZNAME:CET
DTSTART:20241027T010000
END:STANDARD
BEGIN:DAYLIGHT
TZOFFSETFROM:+0100
TZOFFSETTO:+0200
TZNAME:CEST
DTSTART:20250330T010000
END:DAYLIGHT
BEGIN:STANDARD
TZOFFSETFROM:+0200
TZOFFSETTO:+0100
TZNAME:CET
DTSTART:20251026T010000
END:STANDARD
BEGIN:DAYLIGHT
TZOFFSETFROM:+0100
TZOFFSETTO:+0200
TZNAME:CEST
DTSTART:20260329T010000
END:DAYLIGHT
BEGIN:STANDARD
TZOFFSETFROM:+0200
TZOFFSETTO:+0100
TZNAME:CET
DTSTART:20261025T010000
END:STANDARD
END:VTIMEZONE
BEGIN:VEVENT
DTSTART;TZID=Europe/Madrid:20250201T210000
DTEND;TZID=Europe/Madrid:20250201T230000
DTSTAMP:20260420T032659
CREATED:20250117T125944Z
LAST-MODIFIED:20251103T064013Z
UID:14790-1738443600-1738450800@www.centrolatortuga.com
SUMMARY:Salvador Amor en Concierto
DESCRIPTION:Salvador Amor en Concierto. \nMes del décimo aniversario del CCIC La Tortuga \nNacido un 11 de setiembre del 80 en Madrid. Este porteño de adopción\, hijo y nieto de músicos\, canta y toca la guitarra desde que se acuerda. Son ya más de dos décadas subido a la escena\, con un puñado de discos autoeditados a la espalda\, siempre acorde a la línea y compromiso de quien siente y respeta la canción como medio de transformación social.Vivió 10 años en el barrio de Lanús Este – BS AS ArgentinaHijo del cantautor Argentina Rafel Amor con el que tenía un espectáculo en común “amor con Amor”Nieto de Francisco Amor cantor de la famosa orquesta de Francisco Canaro (Tango) Argentina. \nIntegrante fundador de Rojo Cancionero junto a Gabriel Ortega 2010 \nIntegrante fundador de Voz y Media Junto a David Diaz 2015 \nEspectáculos: \nRojo Cancionero (Memoria histórica musical y poética) \nEl Amor Que nos queda – (homenaje a la obra de Rafel Amor) \nEl loco de la vía – (Lucha social y colectiva) \nLa Otra Mitad – Último disco lanzado en 2022 \nEntradas:  https://entradium.com/es/events/salvador-amor-en-concierto \n  \n \nEste evento es exclusivamente para l@s soci@s. Si no lo eres\, sacando la entrada «general» te incluye la cuota ANUAL de soci@ (para lo que se solicitará también el DNI)
URL:https://www.centrolatortuga.com/espectaculo/salvador-amor-en-concierto/
LOCATION:La Tortuga\, Calle de la espada 6 \, madrid\, Madrid\, España
CATEGORIES:Concierto
ATTACH;FMTTYPE=image/png:https://www.centrolatortuga.com/wp-content/uploads/2025/01/Salvador-Amor.png
ORGANIZER;CN="CCIC La Tortuga":MAILTO:centrolatortuga@gmail.com
END:VEVENT
BEGIN:VEVENT
DTSTART;TZID=Europe/Madrid:20250207T203000
DTEND;TZID=Europe/Madrid:20250207T223000
DTSTAMP:20260420T032659
CREATED:20250203T125716Z
LAST-MODIFIED:20251103T064205Z
UID:14855-1738960200-1738967400@www.centrolatortuga.com
SUMMARY:Raras Músicas 168
DESCRIPTION:Mes del décimo aniversario del CCIC La Tortuga \nRicardo Duran Barney: Músico. Compositor\, instrumentista y artista sonoro. Gestor de actividades culturales. original de México Pedro Fraguela: experto en arte y tecnología\, arte digital\, música y programación electrónica. Oriundo de Argentina. \nRARAS MÚSICAS comenzó su actividad en Madrid en febrero de 2013\, produciendo eventos que presentan a músicos y colectivos dedicados principalmente a la exploración musical. Tiene como objetivo presentar el espectro más amplio posible de lo raro\, incluyendo composición e improvisación\, estilos o experimentación libre y su interacción con otras disciplinas artísticas. Los fundadores iniciales fueron Gregorio Kazaroff e Ivor R. Tamplin\, a partir de la idea inicial propuesta por Gregorio. Más tarde se incorporaron Javier Entonado\, Jorge Cabadas\, Ricardo Tejero y Mariana Piñeiro. \nHasta la fecha han participado músicos y artistas locales\, nacionales e internacionales. Con ello\, RARAS MÚSICAS se ha ido haciendo un hueco en la escena experimental de Madrid\, apareciendo en la sección “Flores” de Oro Molido\, la revista nacional de referencia sobre experimentación musical y arte sonoro. \nEntradas: https://entradium.com/events/raras-musicas-160 \nEste evento es exclusivamente para l@s soci@s. Si no lo eres\, sacando la entrada «general» te incluye la cuota ANUAL de soci@ (para lo que se solicitará también el DNI)
URL:https://www.centrolatortuga.com/espectaculo/raras-musicas-168/
LOCATION:La Tortuga\, Calle de la espada 6 \, madrid\, Madrid\, España
CATEGORIES:Concierto,Improvisación
ATTACH;FMTTYPE=image/jpeg:https://www.centrolatortuga.com/wp-content/uploads/2025/02/RM-168.jpg
ORGANIZER;CN="CCIC La Tortuga":MAILTO:centrolatortuga@gmail.com
END:VEVENT
BEGIN:VEVENT
DTSTART;TZID=Europe/Madrid:20250208T210000
DTEND;TZID=Europe/Madrid:20250208T220000
DTSTAMP:20260420T032659
CREATED:20250117T211310Z
LAST-MODIFIED:20251103T064402Z
UID:14807-1739048400-1739052000@www.centrolatortuga.com
SUMMARY:Concierto Violet June
DESCRIPTION:VIOLET JUNE \nEn el mes del décimo aniversario de La Tortuga. \n«Tras la primera toma de contacto después de un tiempo sin actividad en directo\, Violet June vuelven a los escenarios. Con nuevo formato\, nuevos temas y la formación original reunida\, aquella que por el año 2008 comenzó la andadura del grupo. Diecisiete años después\, tras decenas y decenas de conciertos\, varios EP’s y dos Lp’s pubicados\, y habiendo recorrido gran parte del territorio estatal\, la familia vuelve a reunirse. \nVuelven a la Tortuga. Rock instrumental en el que se mezclan influencias alternativas\, progresivas y experimentales. Un viaje sonoro para celebrar el reencuentro y el comienzo de una nueva etapa del viaje» \nViolet June es un grupo de Rock Alternativo con una importante vertiente progresiva y experimental\, formado en 2008. Con diversas publicaciones discográficas y giras a nivel nacional. \nEntradas: https://entradium.com/events/concierto-violet-june \nEste evento es exclusivamente para l@s soci@s. Si no lo eres\, sacando la entrada «general» te incluye la cuota ANUAL de soci@ (para lo que se solicitará también el DNI)
URL:https://www.centrolatortuga.com/espectaculo/concierto-violet-june-2/
LOCATION:La Tortuga\, Calle de la espada 6 \, madrid\, Madrid\, España
CATEGORIES:Concierto
ATTACH;FMTTYPE=image/png:https://www.centrolatortuga.com/wp-content/uploads/2025/01/concier-febrero25.png
ORGANIZER;CN="CCIC La Tortuga":MAILTO:centrolatortuga@gmail.com
END:VEVENT
BEGIN:VEVENT
DTSTART;TZID=Europe/Madrid:20250216T193000
DTEND;TZID=Europe/Madrid:20250216T210000
DTSTAMP:20260420T032659
CREATED:20250211T170427Z
LAST-MODIFIED:20251103T065637Z
UID:14911-1739734200-1739739600@www.centrolatortuga.com
SUMMARY:Raras Músicas
DESCRIPTION:DAC es el trío formado por David Paredes\, Alwin Van Der Linde y Chema Pastor. Tres improvisadores con gran experiencia y que han participado en el ciclo Raras Músicas en distintas formaciones. \nlA tAtUcErA – CHEMA PASTOR \nRARAS MÚSICAS comenzó su actividad en Madrid en febrero de 2013\, produciendo eventos que presentan a músicos y colectivos dedicados principalmente a la exploración musical. Tiene como objetivo presentar el espectro más amplio posible de lo raro\, incluyendo composición e improvisación\, estilos o experimentación libre y su interacción con otras disciplinas artísticas. Los fundadores iniciales fueron Gregorio Kazaroff e Ivor R. Tamplin\, a partir de la idea inicial propuesta por Gregorio. Más tarde se incorporaron Javier Entonado\, Jorge Cabadas\, Ricardo Tejero y Mariana Piñeiro. \nHasta la fecha han participado músicos y artistas locales\, nacionales e internacionales. Con ello\, RARAS MÚSICAS se ha ido haciendo un hueco en la escena experimental de Madrid\, apareciendo en la sección “Flores” de Oro Molido\, la revista nacional de referencia sobre experimentación musical y arte sonoro. \nEnlace a  entradas \nEste evento es exclusivamente para l@s soci@s. Si no lo eres\, sacando la entrada «general» te incluye la cuota ANUAL de soci@ (para lo que se solicitará también el DNI)
URL:https://www.centrolatortuga.com/espectaculo/raras-musicas-16/
LOCATION:La Tortuga\, Calle de la espada 6 \, madrid\, Madrid\, España
CATEGORIES:Concierto
ATTACH;FMTTYPE=image/jpeg:https://www.centrolatortuga.com/wp-content/uploads/2025/02/RM169.jpg
ORGANIZER;CN="CCIC La Tortuga":MAILTO:centrolatortuga@gmail.com
END:VEVENT
BEGIN:VEVENT
DTSTART;TZID=Europe/Madrid:20250228T200000
DTEND;TZID=Europe/Madrid:20250228T210000
DTSTAMP:20260420T032659
CREATED:20250210T083733Z
LAST-MODIFIED:20250211T195704Z
UID:14899-1740772800-1740776400@www.centrolatortuga.com
SUMMARY:Maria Estmar en concierto
DESCRIPTION:Hoy\, quiero invitarte a mi próximo concierto: “La Voz del Corazón”.\n \nJuntos vamos a emprender un viaje hacia nuestro interior a través de la música.\nCada una de las canciones nació de lo más profundo de mi corazón en momentos de gran transformación\, y quiero compartirlo contigo de una forma muy sincera.\nMás que un concierto\, será un espacio para reencontrarte contigo mismo.                                                                                                                                                                                                            No se trata de escucharme a mí\, sino de conectar con esa parte de ti que siempre ha estado ahí.\nTe hablo de volver a sentir con el corazón\, de conectar con el niño que nunca has dejado de ser; de volver a bailar\, cantar y reír sin importar lo que sucede a tu alrededor. Porque ahí\, cuando nos mostramos tal como somos\, también invitamos a los demás a hacerlo.\nEn este concierto vas a sentir como\, la música\, solo será la vía que te conectará con eso\, que YA ESTÁ EN TI. \n \n¡VAMOS A CELEBRAR LA VIDA CANTANDO\, BAILANDO\, RIENDO Y SIMPLEMENTE SIENDO!\n \n \nCon todo mi corazón\,\n \nMaría.\n \nInstagram: https://www.instagram.com/mariaestmar/ \nMi nombre es María Estébanez. \nComencé a cantar por disfrute y compartir lo que sentía; finalmente he terminado componiendo canciones que hablan sobre el “despertar espiritual”\, en ellas hablo de lo que sentí en lo más profundo de mi corazón durante este proceso. \nAparte del canto\, otra de mis pasiones es el baile\, razón por la cual en una de mis composiciones hay una bachata. \nMe encantaría poder hacer llegar al público un mensaje a modo de recordatorio: Disfruta del momento presente\, es lo único que tenemos. Ni futuro\, ni pasado\, solo este instante. \nAnimando además a la gente a mostrar sin miedo sus dones al mundo\, permitiéndose mostrar aquello que los hace brillar: bailar\, tejer\, cocinar\, dibujar\, escribir\, cantar… \nToda acción puede llevarse a cabo desde el más profundo amor\, y esto\, hace el mundo un poquito mejor cada día. \nEste evento es exclusivamente para l@s soci@s. Si no lo eres\, sacando la entrada «general» te incluye la cuota ANUAL de soci@ (para lo que se solicitará también el DNI)
URL:https://www.centrolatortuga.com/espectaculo/maria-estmar-en-concierto/
LOCATION:La Tortuga\, Calle de la espada 6 \, madrid\, Madrid\, España
CATEGORIES:Concierto
ATTACH;FMTTYPE=image/jpeg:https://www.centrolatortuga.com/wp-content/uploads/2025/02/IMG-20240801-WA0011-Yonan-Daniel.jpg
ORGANIZER;CN="CCIC La Tortuga":MAILTO:centrolatortuga@gmail.com
END:VEVENT
END:VCALENDAR