BEGIN:VCALENDAR
VERSION:2.0
PRODID:-//Centro de Creación e Investigación Cultural &quot;La Tortuga&quot; - ECPv6.15.20//NONSGML v1.0//EN
CALSCALE:GREGORIAN
METHOD:PUBLISH
X-WR-CALNAME:Centro de Creación e Investigación Cultural &quot;La Tortuga&quot;
X-ORIGINAL-URL:https://www.centrolatortuga.com
X-WR-CALDESC:Eventos para Centro de Creación e Investigación Cultural &quot;La Tortuga&quot;
REFRESH-INTERVAL;VALUE=DURATION:PT1H
X-Robots-Tag:noindex
X-PUBLISHED-TTL:PT1H
BEGIN:VTIMEZONE
TZID:Europe/Madrid
BEGIN:DAYLIGHT
TZOFFSETFROM:+0100
TZOFFSETTO:+0200
TZNAME:CEST
DTSTART:20240331T010000
END:DAYLIGHT
BEGIN:STANDARD
TZOFFSETFROM:+0200
TZOFFSETTO:+0100
TZNAME:CET
DTSTART:20241027T010000
END:STANDARD
BEGIN:DAYLIGHT
TZOFFSETFROM:+0100
TZOFFSETTO:+0200
TZNAME:CEST
DTSTART:20250330T010000
END:DAYLIGHT
BEGIN:STANDARD
TZOFFSETFROM:+0200
TZOFFSETTO:+0100
TZNAME:CET
DTSTART:20251026T010000
END:STANDARD
BEGIN:DAYLIGHT
TZOFFSETFROM:+0100
TZOFFSETTO:+0200
TZNAME:CEST
DTSTART:20260329T010000
END:DAYLIGHT
BEGIN:STANDARD
TZOFFSETFROM:+0200
TZOFFSETTO:+0100
TZNAME:CET
DTSTART:20261025T010000
END:STANDARD
END:VTIMEZONE
BEGIN:VEVENT
DTSTART;TZID=Europe/Madrid:20250726T210000
DTEND;TZID=Europe/Madrid:20250726T220000
DTSTAMP:20260419T193802
CREATED:20250709T155346Z
LAST-MODIFIED:20250714T165212Z
UID:15345-1753563600-1753567200@www.centrolatortuga.com
SUMMARY:Who the Fuck is Vittorio
DESCRIPTION:Primer Bolo Vittoriano \nVen a disfrutar de un buen rato de versiones de Rock con Who the Fuck is Vittorio! \nDesde los temas más conocidos de los 2000 a nuestras versiones más cañeras que te harán saltar y bailar a tope. \nNos estrenamos el sábado 26 a las 21:00 en la Tortuga (Lavapiés)\, en un sótano tipo bodega\, al resguardo del calor. \nWho the Fuck is Vittorio nació el curso 2023-2024 en la Tortuga como el minigrupo 8\, desde entonces llevamos tocando como grupo\, de momento\, versiones de otros grupos. \nEntradas: https://entradium.com/events/who-the-fuck-is-vittorio \nEste evento es exclusivamente para l@s soci@s. Si no lo eres\, sacando la entrada «general» te incluye la cuota ANUAL de soci@ (para lo que se solicitará también el DNI) \n  \nEntradas: \n \n 
URL:https://www.centrolatortuga.com/espectaculo/who-the-fuck-is-vittorio/
LOCATION:La Tortuga\, Calle de la espada 6 \, madrid\, Madrid\, España
CATEGORIES:Concierto
ATTACH;FMTTYPE=image/jpeg:https://www.centrolatortuga.com/wp-content/uploads/2025/07/Who-the-fuck-is-Vittorio.jpg
ORGANIZER;CN="CCIC La Tortuga":MAILTO:centrolatortuga@gmail.com
END:VEVENT
END:VCALENDAR