BEGIN:VCALENDAR
VERSION:2.0
PRODID:-//Centro de Creación e Investigación Cultural &quot;La Tortuga&quot; - ECPv6.15.20//NONSGML v1.0//EN
CALSCALE:GREGORIAN
METHOD:PUBLISH
X-WR-CALNAME:Centro de Creación e Investigación Cultural &quot;La Tortuga&quot;
X-ORIGINAL-URL:https://www.centrolatortuga.com
X-WR-CALDESC:Eventos para Centro de Creación e Investigación Cultural &quot;La Tortuga&quot;
REFRESH-INTERVAL;VALUE=DURATION:PT1H
X-Robots-Tag:noindex
X-PUBLISHED-TTL:PT1H
BEGIN:VTIMEZONE
TZID:Europe/Madrid
BEGIN:DAYLIGHT
TZOFFSETFROM:+0100
TZOFFSETTO:+0200
TZNAME:CEST
DTSTART:20240331T010000
END:DAYLIGHT
BEGIN:STANDARD
TZOFFSETFROM:+0200
TZOFFSETTO:+0100
TZNAME:CET
DTSTART:20241027T010000
END:STANDARD
BEGIN:DAYLIGHT
TZOFFSETFROM:+0100
TZOFFSETTO:+0200
TZNAME:CEST
DTSTART:20250330T010000
END:DAYLIGHT
BEGIN:STANDARD
TZOFFSETFROM:+0200
TZOFFSETTO:+0100
TZNAME:CET
DTSTART:20251026T010000
END:STANDARD
BEGIN:DAYLIGHT
TZOFFSETFROM:+0100
TZOFFSETTO:+0200
TZNAME:CEST
DTSTART:20260329T010000
END:DAYLIGHT
BEGIN:STANDARD
TZOFFSETFROM:+0200
TZOFFSETTO:+0100
TZNAME:CET
DTSTART:20261025T010000
END:STANDARD
END:VTIMEZONE
BEGIN:VEVENT
DTSTART;TZID=Europe/Madrid:20250913T203000
DTEND;TZID=Europe/Madrid:20250913T220000
DTSTAMP:20260419T164600
CREATED:20250904T123952Z
LAST-MODIFIED:20251103T185738Z
UID:15584-1757795400-1757800800@www.centrolatortuga.com
SUMMARY:Raras Músicas
DESCRIPTION:1) Dieter Mauson viene de Hamburgo\, Alemania y es un reputado músico electrónico experimental con giras por distintas partes del mundo: https://occupiedhead.bandcamp.com/ \n2) Ubuciko Bodoti (arte basura): propuesta integral de música y videoarte\, desde Madrid.(https://arindodo.bandcamp.com/album/ubuciko-bodoti-arte-basura) \n  \nRARAS MÚSICAS comenzó su actividad en Madrid en febrero de 2013\, produciendo eventos que presentan a músicos y colectivos dedicados principalmente a la exploración musical. Tiene como objetivo presentar el espectro más amplio posible de lo raro\, incluyendo composición e improvisación\, estilos o experimentación libre y su interacción con otras disciplinas artísticas. Los fundadores iniciales fueron Gregorio Kazaroff e Ivor R. Tamplin\, a partir de la idea inicial propuesta por Gregorio. Más tarde se incorporaron Javier Entonado\, Jorge Cabadas\, Ricardo Tejero y Mariana Piñeiro. \nHasta la fecha han participado músicos y artistas locales\, nacionales e internacionales. Con ello\, RARAS MÚSICAS se ha ido haciendo un hueco en la escena experimental de Madrid\, apareciendo en la sección “Flores” de Oro Molido\, la revista nacional de referencia sobre experimentación musical y arte sonoro. \nEntradas: https://entradium.com/events/raras-musicas-160 \nEste evento es exclusivamente para l@s soci@s. Si no lo eres\, sacando la entrada «general» te incluye la cuota ANUAL de soci@ (para lo que se solicitará también el DNI)
URL:https://www.centrolatortuga.com/espectaculo/raras-musicas-24/
LOCATION:La Tortuga\, Calle de la espada 6 \, madrid\, Madrid\, España
CATEGORIES:Concierto
ATTACH;FMTTYPE=image/jpeg:https://www.centrolatortuga.com/wp-content/uploads/2025/09/RM-179-13-sep-2025.jpg
ORGANIZER;CN="CCIC La Tortuga":MAILTO:centrolatortuga@gmail.com
END:VEVENT
BEGIN:VEVENT
DTSTART;TZID=Europe/Madrid:20250927T210000
DTEND;TZID=Europe/Madrid:20250927T220000
DTSTAMP:20260419T164600
CREATED:20250901T130539Z
LAST-MODIFIED:20251103T185936Z
UID:15554-1759006800-1759010400@www.centrolatortuga.com
SUMMARY:Abóbora. Concierto para Didgeridoo & Flauta
DESCRIPTION:«Abóbora. Concierto para Didgeridoo & Flauta» es el nuevo y más ecléptico directo de Leticia Alejos. \nUna humana\, un Looper y estos dos instrumentos de viento\, ambos de origen ancestral se encuentran para crear distintos diálogos musicales influenciados desde por la Música tradicional ibérica hasta por la Electrónica. \nMúsica sin etiquetas para tomar tierra y volarte!» \nEl Didgeridoo es un instrumento de viento de origen australiano con más de 60.000 años y que ya ha dado la vuelta al mundo\, sumando a su profundo toque tradicional\, nuevas técnicas y sonoridades totalmente contemporáneas y deslocalizadas para sacarle toda la Música que lleva dentro esta rama hueca. En esta ocasión suena junto a la Flauta travesera\, que también tiene su origen en tiempos remotos\, ligada como el Didgeridoo (y toda la Música)\, a ese aspecto tan humano que es lo Ritual. Dos vientos y un Looper para sonar y resonar con lo terrenal y lo divino\, si es que existe una frontera entre ambos… \nLeticia Alejos. \nHace más de 15 años se enganchó y se especializó en el ancestral instrumento de viento australiano\, Didgeridoo. Lo uno llevó a lo otro y hoy día se expresa a través de distintos instrumentos. Flauta travesera y otras flautas étnicas\, Cuencos tibetanos\, Bajo\, distintas percusiones del mundo… \nDesde 2012 imparte distintas formaciones en Didgeridoo (cursos\, workshops\, clases particulares). \nHa formado parte de diferentes proyectos musicales madrileños de carácter chamánico y de World Music como Ocno (pioneros en España en instrumentos ancestrales orientados a entornos meditativos y rituales)\, Ambar Gipsys (Didgeridoo fusionado con instrumentos étnicos y «convencionales» + electrónica)\, Ayni (Ngoni\, voz y Didgeridoo)\, Ritual Sound Ensemble (World Music). \nEn solitario\, donde interviene tecnología musical como el Looper y el procesado de sonido en directo\, ha creado tres proyectos hasta hoy. «Buraco de minhoca»\, música experimental con instrumentos ancestrales. «Desde el tiempo del sueño»\, concierto didáctico. Y «Abóbora. Concierto para Didgeridoo & Flauta»\, su último y más ecléctico trabajo. \nA lo largo de su trayectoria ha tenido el lujo de tocar en espacios como el Palacio de Cristal (Museo Reina Sofía) o el Real Coliseo de San Lorenzo de El Escorial\, entre otros. \nEnlace a entradas: https://entradium.com/events/abobora-concierto-para-didgeridoo-flauta \nEste evento es exclusivamente para l@s soci@s. Si no lo eres\, sacando la entrada «general» te incluye la cuota ANUAL de soci@ (para lo que se solicitará también el DNI)
URL:https://www.centrolatortuga.com/espectaculo/abobora-concierto-para-didgeridoo-flauta/
LOCATION:La Tortuga\, Calle de la espada 6 \, madrid\, Madrid\, España
CATEGORIES:Concierto
ATTACH;FMTTYPE=image/jpeg:https://www.centrolatortuga.com/wp-content/uploads/2025/09/CARTEL-redes-ABOBORA.27-SEPT.LA-TORTUGA.jpg
ORGANIZER;CN="CCIC La Tortuga":MAILTO:centrolatortuga@gmail.com
END:VEVENT
END:VCALENDAR