BEGIN:VCALENDAR
VERSION:2.0
PRODID:-//Centro de Creación e Investigación Cultural &quot;La Tortuga&quot; - ECPv6.15.20//NONSGML v1.0//EN
CALSCALE:GREGORIAN
METHOD:PUBLISH
X-ORIGINAL-URL:https://www.centrolatortuga.com
X-WR-CALDESC:Eventos para Centro de Creación e Investigación Cultural &quot;La Tortuga&quot;
REFRESH-INTERVAL;VALUE=DURATION:PT1H
X-Robots-Tag:noindex
X-PUBLISHED-TTL:PT1H
BEGIN:VTIMEZONE
TZID:Europe/Madrid
BEGIN:DAYLIGHT
TZOFFSETFROM:+0100
TZOFFSETTO:+0200
TZNAME:CEST
DTSTART:20240331T010000
END:DAYLIGHT
BEGIN:STANDARD
TZOFFSETFROM:+0200
TZOFFSETTO:+0100
TZNAME:CET
DTSTART:20241027T010000
END:STANDARD
BEGIN:DAYLIGHT
TZOFFSETFROM:+0100
TZOFFSETTO:+0200
TZNAME:CEST
DTSTART:20250330T010000
END:DAYLIGHT
BEGIN:STANDARD
TZOFFSETFROM:+0200
TZOFFSETTO:+0100
TZNAME:CET
DTSTART:20251026T010000
END:STANDARD
BEGIN:DAYLIGHT
TZOFFSETFROM:+0100
TZOFFSETTO:+0200
TZNAME:CEST
DTSTART:20260329T010000
END:DAYLIGHT
BEGIN:STANDARD
TZOFFSETFROM:+0200
TZOFFSETTO:+0100
TZNAME:CET
DTSTART:20261025T010000
END:STANDARD
END:VTIMEZONE
BEGIN:VEVENT
DTSTART;TZID=Europe/Madrid:20251011T210000
DTEND;TZID=Europe/Madrid:20251011T220000
DTSTAMP:20260419T182223
CREATED:20250908T161242Z
LAST-MODIFIED:20251103T185143Z
UID:15604-1760216400-1760220000@www.centrolatortuga.com
SUMMARY:Basta Juan y Los Fantasmas
DESCRIPTION:Basta Juan y los Fantasmas es un proyecto musical caprichoso que busca mezclar distintos géneros\, de baladas a boleros\, de cumbias a garage desde el Latin Rock. Residentes en Madrid\, España. \nEntradas: https://entradium.com/events/basta-juan-y-los-fantasmas \nEste evento es exclusivamente para l@s soci@s. Si no lo eres\, sacando la entrada «general» te incluye la cuota ANUAL de soci@ (para lo que se solicitará también el DNI \n 
URL:https://www.centrolatortuga.com/espectaculo/basta-juan-y-los-fantasmas/
LOCATION:La Tortuga\, Calle de la espada 6 \, madrid\, Madrid\, España
CATEGORIES:Concierto
ATTACH;FMTTYPE=image/png:https://www.centrolatortuga.com/wp-content/uploads/2025/09/Basta-Juan-Flyer_11Oct_LATORTUGA_MADRIZ.png
ORGANIZER;CN="CCIC La Tortuga":MAILTO:centrolatortuga@gmail.com
END:VEVENT
BEGIN:VEVENT
DTSTART;TZID=Europe/Madrid:20251025T210000
DTEND;TZID=Europe/Madrid:20251025T223000
DTSTAMP:20260419T182223
CREATED:20251020T122942Z
LAST-MODIFIED:20251103T185135Z
UID:15698-1761426000-1761431400@www.centrolatortuga.com
SUMMARY:Niska Fitz- "Ahora o nunca" (acústico)
DESCRIPTION:«Las flores florecen\, Nunca dejes de regar» \nEste show acústico es una invitación a celebrar la esperanza. \nLas canciones recientes de Niska son cercanas\, sencillas y sinceras. Con una guitarra y su voz potente\, navega entre delicadeza e intensidad\, describiendo el proceso natural de un cambio: tanto interno como colectivo. \nNiska Fitz es cantante\, compositora y productora musical. Participó en La Voz (2013) llegando a cuartos de final\, y desde entonces se dedica a investigar la voz y la expresión. \nAmante de cantar en distintos idiomas. Su próximo mini-álbum será en español y verá la luz en 2026. \n \nCompra aquí tus entradas
URL:https://www.centrolatortuga.com/espectaculo/niska-fitz-ahora-o-nunca-acustico/
LOCATION:La Tortuga\, Calle de la espada 6 \, madrid\, Madrid\, España
CATEGORIES:Canción de autor,Concierto
ATTACH;FMTTYPE=image/jpeg:https://www.centrolatortuga.com/wp-content/uploads/2025/10/Concert-Music2-Niska-Fitz.jpg
ORGANIZER;CN="CCIC La Tortuga":MAILTO:centrolatortuga@gmail.com
END:VEVENT
END:VCALENDAR