BEGIN:VCALENDAR
VERSION:2.0
PRODID:-//Centro de Creación e Investigación Cultural &quot;La Tortuga&quot; - ECPv6.15.20//NONSGML v1.0//EN
CALSCALE:GREGORIAN
METHOD:PUBLISH
X-ORIGINAL-URL:https://www.centrolatortuga.com
X-WR-CALDESC:Eventos para Centro de Creación e Investigación Cultural &quot;La Tortuga&quot;
REFRESH-INTERVAL;VALUE=DURATION:PT1H
X-Robots-Tag:noindex
X-PUBLISHED-TTL:PT1H
BEGIN:VTIMEZONE
TZID:Europe/Madrid
BEGIN:DAYLIGHT
TZOFFSETFROM:+0100
TZOFFSETTO:+0200
TZNAME:CEST
DTSTART:20240331T010000
END:DAYLIGHT
BEGIN:STANDARD
TZOFFSETFROM:+0200
TZOFFSETTO:+0100
TZNAME:CET
DTSTART:20241027T010000
END:STANDARD
BEGIN:DAYLIGHT
TZOFFSETFROM:+0100
TZOFFSETTO:+0200
TZNAME:CEST
DTSTART:20250330T010000
END:DAYLIGHT
BEGIN:STANDARD
TZOFFSETFROM:+0200
TZOFFSETTO:+0100
TZNAME:CET
DTSTART:20251026T010000
END:STANDARD
BEGIN:DAYLIGHT
TZOFFSETFROM:+0100
TZOFFSETTO:+0200
TZNAME:CEST
DTSTART:20260329T010000
END:DAYLIGHT
BEGIN:STANDARD
TZOFFSETFROM:+0200
TZOFFSETTO:+0100
TZNAME:CET
DTSTART:20261025T010000
END:STANDARD
END:VTIMEZONE
BEGIN:VEVENT
DTSTART;TZID=Europe/Madrid:20250201T210000
DTEND;TZID=Europe/Madrid:20250201T230000
DTSTAMP:20260420T045356
CREATED:20250117T125944Z
LAST-MODIFIED:20251103T064013Z
UID:14790-1738443600-1738450800@www.centrolatortuga.com
SUMMARY:Salvador Amor en Concierto
DESCRIPTION:Salvador Amor en Concierto. \nMes del décimo aniversario del CCIC La Tortuga \nNacido un 11 de setiembre del 80 en Madrid. Este porteño de adopción\, hijo y nieto de músicos\, canta y toca la guitarra desde que se acuerda. Son ya más de dos décadas subido a la escena\, con un puñado de discos autoeditados a la espalda\, siempre acorde a la línea y compromiso de quien siente y respeta la canción como medio de transformación social.Vivió 10 años en el barrio de Lanús Este – BS AS ArgentinaHijo del cantautor Argentina Rafel Amor con el que tenía un espectáculo en común “amor con Amor”Nieto de Francisco Amor cantor de la famosa orquesta de Francisco Canaro (Tango) Argentina. \nIntegrante fundador de Rojo Cancionero junto a Gabriel Ortega 2010 \nIntegrante fundador de Voz y Media Junto a David Diaz 2015 \nEspectáculos: \nRojo Cancionero (Memoria histórica musical y poética) \nEl Amor Que nos queda – (homenaje a la obra de Rafel Amor) \nEl loco de la vía – (Lucha social y colectiva) \nLa Otra Mitad – Último disco lanzado en 2022 \nEntradas:  https://entradium.com/es/events/salvador-amor-en-concierto \n  \n \nEste evento es exclusivamente para l@s soci@s. Si no lo eres\, sacando la entrada «general» te incluye la cuota ANUAL de soci@ (para lo que se solicitará también el DNI)
URL:https://www.centrolatortuga.com/espectaculo/salvador-amor-en-concierto/
LOCATION:La Tortuga\, Calle de la espada 6 \, madrid\, Madrid\, España
CATEGORIES:Concierto
ATTACH;FMTTYPE=image/png:https://www.centrolatortuga.com/wp-content/uploads/2025/01/Salvador-Amor.png
ORGANIZER;CN="CCIC La Tortuga":MAILTO:centrolatortuga@gmail.com
END:VEVENT
END:VCALENDAR