BEGIN:VCALENDAR
VERSION:2.0
PRODID:-//Centro de Creación e Investigación Cultural &quot;La Tortuga&quot; - ECPv6.15.20//NONSGML v1.0//EN
CALSCALE:GREGORIAN
METHOD:PUBLISH
X-ORIGINAL-URL:https://www.centrolatortuga.com
X-WR-CALDESC:Eventos para Centro de Creación e Investigación Cultural &quot;La Tortuga&quot;
REFRESH-INTERVAL;VALUE=DURATION:PT1H
X-Robots-Tag:noindex
X-PUBLISHED-TTL:PT1H
BEGIN:VTIMEZONE
TZID:Europe/Madrid
BEGIN:DAYLIGHT
TZOFFSETFROM:+0100
TZOFFSETTO:+0200
TZNAME:CEST
DTSTART:20240331T010000
END:DAYLIGHT
BEGIN:STANDARD
TZOFFSETFROM:+0200
TZOFFSETTO:+0100
TZNAME:CET
DTSTART:20241027T010000
END:STANDARD
BEGIN:DAYLIGHT
TZOFFSETFROM:+0100
TZOFFSETTO:+0200
TZNAME:CEST
DTSTART:20250330T010000
END:DAYLIGHT
BEGIN:STANDARD
TZOFFSETFROM:+0200
TZOFFSETTO:+0100
TZNAME:CET
DTSTART:20251026T010000
END:STANDARD
BEGIN:DAYLIGHT
TZOFFSETFROM:+0100
TZOFFSETTO:+0200
TZNAME:CEST
DTSTART:20260329T010000
END:DAYLIGHT
BEGIN:STANDARD
TZOFFSETFROM:+0200
TZOFFSETTO:+0100
TZNAME:CET
DTSTART:20261025T010000
END:STANDARD
END:VTIMEZONE
BEGIN:VEVENT
DTSTART;TZID=Europe/Madrid:20250208T210000
DTEND;TZID=Europe/Madrid:20250208T220000
DTSTAMP:20260420T045316
CREATED:20250117T211310Z
LAST-MODIFIED:20251103T064402Z
UID:14807-1739048400-1739052000@www.centrolatortuga.com
SUMMARY:Concierto Violet June
DESCRIPTION:VIOLET JUNE \nEn el mes del décimo aniversario de La Tortuga. \n«Tras la primera toma de contacto después de un tiempo sin actividad en directo\, Violet June vuelven a los escenarios. Con nuevo formato\, nuevos temas y la formación original reunida\, aquella que por el año 2008 comenzó la andadura del grupo. Diecisiete años después\, tras decenas y decenas de conciertos\, varios EP’s y dos Lp’s pubicados\, y habiendo recorrido gran parte del territorio estatal\, la familia vuelve a reunirse. \nVuelven a la Tortuga. Rock instrumental en el que se mezclan influencias alternativas\, progresivas y experimentales. Un viaje sonoro para celebrar el reencuentro y el comienzo de una nueva etapa del viaje» \nViolet June es un grupo de Rock Alternativo con una importante vertiente progresiva y experimental\, formado en 2008. Con diversas publicaciones discográficas y giras a nivel nacional. \nEntradas: https://entradium.com/events/concierto-violet-june \nEste evento es exclusivamente para l@s soci@s. Si no lo eres\, sacando la entrada «general» te incluye la cuota ANUAL de soci@ (para lo que se solicitará también el DNI)
URL:https://www.centrolatortuga.com/espectaculo/concierto-violet-june-2/
LOCATION:La Tortuga\, Calle de la espada 6 \, madrid\, Madrid\, España
CATEGORIES:Concierto
ATTACH;FMTTYPE=image/png:https://www.centrolatortuga.com/wp-content/uploads/2025/01/concier-febrero25.png
ORGANIZER;CN="CCIC La Tortuga":MAILTO:centrolatortuga@gmail.com
END:VEVENT
END:VCALENDAR