BEGIN:VCALENDAR
VERSION:2.0
PRODID:-//Centro de Creación e Investigación Cultural &quot;La Tortuga&quot; - ECPv6.15.20//NONSGML v1.0//EN
CALSCALE:GREGORIAN
METHOD:PUBLISH
X-WR-CALNAME:Centro de Creación e Investigación Cultural &quot;La Tortuga&quot;
X-ORIGINAL-URL:https://www.centrolatortuga.com
X-WR-CALDESC:Eventos para Centro de Creación e Investigación Cultural &quot;La Tortuga&quot;
REFRESH-INTERVAL;VALUE=DURATION:PT1H
X-Robots-Tag:noindex
X-PUBLISHED-TTL:PT1H
BEGIN:VTIMEZONE
TZID:Europe/Madrid
BEGIN:DAYLIGHT
TZOFFSETFROM:+0100
TZOFFSETTO:+0200
TZNAME:CEST
DTSTART:20240331T010000
END:DAYLIGHT
BEGIN:STANDARD
TZOFFSETFROM:+0200
TZOFFSETTO:+0100
TZNAME:CET
DTSTART:20241027T010000
END:STANDARD
BEGIN:DAYLIGHT
TZOFFSETFROM:+0100
TZOFFSETTO:+0200
TZNAME:CEST
DTSTART:20250330T010000
END:DAYLIGHT
BEGIN:STANDARD
TZOFFSETFROM:+0200
TZOFFSETTO:+0100
TZNAME:CET
DTSTART:20251026T010000
END:STANDARD
BEGIN:DAYLIGHT
TZOFFSETFROM:+0100
TZOFFSETTO:+0200
TZNAME:CEST
DTSTART:20260329T010000
END:DAYLIGHT
BEGIN:STANDARD
TZOFFSETFROM:+0200
TZOFFSETTO:+0100
TZNAME:CET
DTSTART:20261025T010000
END:STANDARD
END:VTIMEZONE
BEGIN:VEVENT
DTSTART;TZID=Europe/Madrid:20250607T203000
DTEND;TZID=Europe/Madrid:20250607T220000
DTSTAMP:20260419T225850
CREATED:20250531T201228Z
LAST-MODIFIED:20251103T111311Z
UID:15177-1749328200-1749333600@www.centrolatortuga.com
SUMMARY:Raras Músicas
DESCRIPTION:UN WESTERN ANDALUZ: UN TRABAJO AUDIOVISUAL DE PILAR MAYORGAS Y JOSE MARIA PEREZ-FLOR  \nUn trabajo realizado a partir de una banda sonora y una idea\, la transformación y relación del territorio\, en este caso el andaluz\, con la actividad humana evidenciando los cambios que sufre con el abandono y la migración de la población.\nPilar no nos muestra una Andalucía rebosante\, luminosa\, vital\, sino una tierra árida\, unos iconos\, ahí está el toro de Osborne\, que se antojan extraños\, como fuera del espacio y del tiempo. Sin duda\, la banda sonora de J.M. Pérez Flor acentúa estas sensaciones un tanto inquietantes y alienadas. \nRARAS MÚSICAS comenzó su actividad en Madrid en febrero de 2013\, produciendo eventos que presentan a músicos y colectivos dedicados principalmente a la exploración musical. Tiene como objetivo presentar el espectro más amplio posible de lo raro\, incluyendo composición e improvisación\, estilos o experimentación libre y su interacción con otras disciplinas artísticas. Los fundadores iniciales fueron Gregorio Kazaroff e Ivor R. Tamplin\, a partir de la idea inicial propuesta por Gregorio. Más tarde se incorporaron Javier Entonado\, Jorge Cabadas\, Ricardo Tejero y Mariana Piñeiro. \n  \nHasta la fecha han participado músicos y artistas locales\, nacionales e internacionales. Con ello\, RARAS MÚSICAS se ha ido haciendo un hueco en la escena experimental de Madrid\, apareciendo en la sección “Flores” de Oro Molido\, la revista nacional de referencia sobre experimentación musical y arte sonoro. \nEste evento es exclusivamente para l@s soci@s. Si no lo eres\, sacando la entrada «general» te incluye la cuota ANUAL de soci@ (para lo que se solicitará también el DNI)
URL:https://www.centrolatortuga.com/espectaculo/raras-musicas-21/
LOCATION:La Tortuga\, Calle de la espada 6 \, madrid\, Madrid\, España
CATEGORIES:Concierto
ATTACH;FMTTYPE=image/png:https://www.centrolatortuga.com/wp-content/uploads/2025/05/Kinosonik-4.png
ORGANIZER;CN="CCIC La Tortuga":MAILTO:centrolatortuga@gmail.com
END:VEVENT
END:VCALENDAR