BEGIN:VCALENDAR
VERSION:2.0
PRODID:-//Centro de Creación e Investigación Cultural &quot;La Tortuga&quot; - ECPv6.15.20//NONSGML v1.0//EN
CALSCALE:GREGORIAN
METHOD:PUBLISH
X-ORIGINAL-URL:https://www.centrolatortuga.com
X-WR-CALDESC:Eventos para Centro de Creación e Investigación Cultural &quot;La Tortuga&quot;
REFRESH-INTERVAL;VALUE=DURATION:PT1H
X-Robots-Tag:noindex
X-PUBLISHED-TTL:PT1H
BEGIN:VTIMEZONE
TZID:Europe/Madrid
BEGIN:DAYLIGHT
TZOFFSETFROM:+0100
TZOFFSETTO:+0200
TZNAME:CEST
DTSTART:20240331T010000
END:DAYLIGHT
BEGIN:STANDARD
TZOFFSETFROM:+0200
TZOFFSETTO:+0100
TZNAME:CET
DTSTART:20241027T010000
END:STANDARD
BEGIN:DAYLIGHT
TZOFFSETFROM:+0100
TZOFFSETTO:+0200
TZNAME:CEST
DTSTART:20250330T010000
END:DAYLIGHT
BEGIN:STANDARD
TZOFFSETFROM:+0200
TZOFFSETTO:+0100
TZNAME:CET
DTSTART:20251026T010000
END:STANDARD
BEGIN:DAYLIGHT
TZOFFSETFROM:+0100
TZOFFSETTO:+0200
TZNAME:CEST
DTSTART:20260329T010000
END:DAYLIGHT
BEGIN:STANDARD
TZOFFSETFROM:+0200
TZOFFSETTO:+0100
TZNAME:CET
DTSTART:20261025T010000
END:STANDARD
END:VTIMEZONE
BEGIN:VEVENT
DTSTART;TZID=Europe/Madrid:20250629T130000
DTEND;TZID=Europe/Madrid:20250629T140000
DTSTAMP:20260419T225325
CREATED:20250620T111717Z
LAST-MODIFIED:20250620T111717Z
UID:15255-1751202000-1751205600@www.centrolatortuga.com
SUMMARY:MORALES & WILLIE-S LIVE SESSION
DESCRIPTION:Cuando eran niños\, Morales y willie-s cruzaron en tortuga el atlántico con la idea de hacer una sesión vermú en pleno centro de Madrid. Con el pasar de los años\, y ya asentados en la capital española\, esa tortuga fue creciendo hasta transformarse en lo que hoy es el CCIC La Tortuga de Lavapiés. Es así como por fin el domingo 29 a las 13pm pueden invitar a más gente a subirse a la tortuga para disfrutar de un clásico domingo de rastro aderezado con las canciones que cada uno ha ido cosechando. El plan ideal en un sitio ideal con la gente ideal. No sean tortugas y pillen su entrada\, hay pocas. \nMorales es el proyecto en solitario de Sebastián Morales\, músico de origen colombiano afincado en Madrid desde pronta edad. Después de sus trabajos San Cocho (2021)\, Loma Triste (2023) y El Marginal (2024); Morales presenta la Live Session\, un directo donde guitarra y autotune nos conducen por un imaginario popular a la vez que maldito\, moderno al igual que decadente\, oscuro a la par que luminoso. Todo depende de los ojos que lo vean y las orejas que lo escuchen. Así que oiga\, mire\, vea y cuénteselo a los suyos. \nWillie-s es el alma detrás de una propuesta musical que fusiona la calidez del R&B con la crudeza del hip hop\, todo envuelto en guitarras simples y sinceras. Un sonido íntimo pero poderoso\, lleno de bajos profundos y letras que sangran amor\, desamor y todo lo que hay en medio.\nCriado entre melodías que hablaban más de lo que las palabras podían. Cada tema es una confesión\, una carta que nunca se envió o un suspiro que aún queda flotando.\nCon influencias que van desde las baladas más clásicas hasta la crudeza emocional del trap contemporáneo\, hay un espacio sonoro propio\, donde el corazón tiene ritmo y las heridas suenan a guitarra\, solo conecta\, canta\, llora y sana. \nEntradas: https://entradium.com/events/morales-willie-s-live-session \nEste evento es exclusivamente para l@s soci@s. Si no lo eres\, sacando la entrada «general» te incluye la cuota ANUAL de soci@ (para lo que se solicitará también el DNI)
URL:https://www.centrolatortuga.com/espectaculo/morales-willie-s-live-session/
LOCATION:La Tortuga\, Calle de la espada 6 \, madrid\, Madrid\, España
CATEGORIES:Concierto
ATTACH;FMTTYPE=image/jpeg:https://www.centrolatortuga.com/wp-content/uploads/2025/06/Foto-Sesiones-lloronas-Morales.jpg
ORGANIZER;CN="CCIC La Tortuga":MAILTO:centrolatortuga@gmail.com
END:VEVENT
BEGIN:VEVENT
DTSTART;TZID=Europe/Madrid:20250629T190000
DTEND;TZID=Europe/Madrid:20250629T210000
DTSTAMP:20260419T225325
CREATED:20250624T093651Z
LAST-MODIFIED:20250624T093651Z
UID:15263-1751223600-1751230800@www.centrolatortuga.com
SUMMARY:Raras Músicas
DESCRIPTION:RARAS MÚSICAS comenzó su actividad en Madrid en febrero de 2013\, produciendo eventos que presentan a músicos y colectivos dedicados principalmente a la exploración musical. Tiene como objetivo presentar el espectro más amplio posible de lo raro\, incluyendo composición e improvisación\, estilos o experimentación libre y su interacción con otras disciplinas artísticas. Los fundadores iniciales fueron Gregorio Kazaroff e Ivor R. Tamplin\, a partir de la idea inicial propuesta por Gregorio. Más tarde se incorporaron Javier Entonado\, Jorge Cabadas\, Ricardo Tejero y Mariana Piñeiro. \nHasta la fecha han participado músicos y artistas locales\, nacionales e internacionales. Con ello\, RARAS MÚSICAS se ha ido haciendo un hueco en la escena experimental de Madrid\, apareciendo en la sección “Flores” de Oro Molido\, la revista nacional de referencia sobre experimentación musical y arte sonoro. \nEntradas: https://entradium.com/events/raras-musicas-madrid-ccic-la-tortuga-madrid \nEste eveno es exclusivamente para l@s soci@s. Si no lo eres\, sacando la entrada «general» te incluye la cuota ANUAL de soci@ (para lo que se solicitará también el DNI)
URL:https://www.centrolatortuga.com/espectaculo/raras-musicas-23/
LOCATION:La Tortuga\, Calle de la espada 6 \, madrid\, Madrid\, España
CATEGORIES:Concierto
ATTACH;FMTTYPE=image/jpeg:https://www.centrolatortuga.com/wp-content/uploads/2025/06/304002B3-5CA0-44A7-86D3-78371A20E7E3.jpeg
ORGANIZER;CN="CCIC La Tortuga":MAILTO:centrolatortuga@gmail.com
END:VEVENT
END:VCALENDAR