BEGIN:VCALENDAR
VERSION:2.0
PRODID:-//Centro de Creación e Investigación Cultural &quot;La Tortuga&quot; - ECPv6.15.20//NONSGML v1.0//EN
CALSCALE:GREGORIAN
METHOD:PUBLISH
X-WR-CALNAME:Centro de Creación e Investigación Cultural &quot;La Tortuga&quot;
X-ORIGINAL-URL:https://www.centrolatortuga.com
X-WR-CALDESC:Eventos para Centro de Creación e Investigación Cultural &quot;La Tortuga&quot;
REFRESH-INTERVAL;VALUE=DURATION:PT1H
X-Robots-Tag:noindex
X-PUBLISHED-TTL:PT1H
BEGIN:VTIMEZONE
TZID:Europe/Madrid
BEGIN:DAYLIGHT
TZOFFSETFROM:+0100
TZOFFSETTO:+0200
TZNAME:CEST
DTSTART:20240331T010000
END:DAYLIGHT
BEGIN:STANDARD
TZOFFSETFROM:+0200
TZOFFSETTO:+0100
TZNAME:CET
DTSTART:20241027T010000
END:STANDARD
BEGIN:DAYLIGHT
TZOFFSETFROM:+0100
TZOFFSETTO:+0200
TZNAME:CEST
DTSTART:20250330T010000
END:DAYLIGHT
BEGIN:STANDARD
TZOFFSETFROM:+0200
TZOFFSETTO:+0100
TZNAME:CET
DTSTART:20251026T010000
END:STANDARD
BEGIN:DAYLIGHT
TZOFFSETFROM:+0100
TZOFFSETTO:+0200
TZNAME:CEST
DTSTART:20260329T010000
END:DAYLIGHT
BEGIN:STANDARD
TZOFFSETFROM:+0200
TZOFFSETTO:+0100
TZNAME:CET
DTSTART:20261025T010000
END:STANDARD
END:VTIMEZONE
BEGIN:VEVENT
DTSTART;TZID=Europe/Madrid:20251108T210000
DTEND;TZID=Europe/Madrid:20251108T220000
DTSTAMP:20260419T225126
CREATED:20250901T132751Z
LAST-MODIFIED:20251103T184121Z
UID:15558-1762635600-1762639200@www.centrolatortuga.com
SUMMARY:Green Bigfots: LIVE
DESCRIPTION:Green Bigfoots es un proyecto musical asturiano que ha desarrollado desde el lo-fi y el post-punk hasta paisajes sónicos más experimentales\, siempre con una visión muy íntima y emocional. Su música resuena como confesiones nocturnas\, donde cada tema es un espacio para confrontar fantasmas propios\, enfrentarse al dolor y buscar formas de sanación a través del sonido \nGreen Bigfoots es un proyecto que nace desde las entrañas del underground. Con un enfoque musical profundamente emocional\, mezcla sonidos lo-fi\, spoken word\, post-punk\, techno y psicodelia para construir paisajes sonoros introspectivos y envolventes. \nEntradas: https://entradium.com/events/green-bigfots-live \nEste evento es exclusivamente para l@s soci@s. Si no lo eres\, sacando la entrada «general» te incluye la cuota ANUAL de soci@ (para lo que se solicitará también el DNI)
URL:https://www.centrolatortuga.com/espectaculo/green-bigfots-live/
LOCATION:La Tortuga\, Calle de la espada 6 \, madrid\, Madrid\, España
CATEGORIES:Concierto
ATTACH;FMTTYPE=image/jpeg:https://www.centrolatortuga.com/wp-content/uploads/2025/09/CARTEL-1.jpg
ORGANIZER;CN="CCIC La Tortuga":MAILTO:centrolatortuga@gmail.com
END:VEVENT
END:VCALENDAR