BEGIN:VCALENDAR
VERSION:2.0
PRODID:-//Centro de Creación e Investigación Cultural &quot;La Tortuga&quot; - ECPv6.15.20//NONSGML v1.0//EN
CALSCALE:GREGORIAN
METHOD:PUBLISH
X-ORIGINAL-URL:https://www.centrolatortuga.com
X-WR-CALDESC:Eventos para Centro de Creación e Investigación Cultural &quot;La Tortuga&quot;
REFRESH-INTERVAL;VALUE=DURATION:PT1H
X-Robots-Tag:noindex
X-PUBLISHED-TTL:PT1H
BEGIN:VTIMEZONE
TZID:Europe/Madrid
BEGIN:DAYLIGHT
TZOFFSETFROM:+0100
TZOFFSETTO:+0200
TZNAME:CEST
DTSTART:20240331T010000
END:DAYLIGHT
BEGIN:STANDARD
TZOFFSETFROM:+0200
TZOFFSETTO:+0100
TZNAME:CET
DTSTART:20241027T010000
END:STANDARD
BEGIN:DAYLIGHT
TZOFFSETFROM:+0100
TZOFFSETTO:+0200
TZNAME:CEST
DTSTART:20250330T010000
END:DAYLIGHT
BEGIN:STANDARD
TZOFFSETFROM:+0200
TZOFFSETTO:+0100
TZNAME:CET
DTSTART:20251026T010000
END:STANDARD
BEGIN:DAYLIGHT
TZOFFSETFROM:+0100
TZOFFSETTO:+0200
TZNAME:CEST
DTSTART:20260329T010000
END:DAYLIGHT
BEGIN:STANDARD
TZOFFSETFROM:+0200
TZOFFSETTO:+0100
TZNAME:CET
DTSTART:20261025T010000
END:STANDARD
END:VTIMEZONE
BEGIN:VEVENT
DTSTART;TZID=Europe/Madrid:20251115T210000
DTEND;TZID=Europe/Madrid:20251115T223000
DTSTAMP:20260420T032326
CREATED:20251029T121357Z
LAST-MODIFIED:20251103T183850Z
UID:15741-1763240400-1763245800@www.centrolatortuga.com
SUMMARY:Sunset Strings 4
DESCRIPTION:INSPIRADAS \n¿Qué inspira a una artista cuando crea o interpreta música? ¿Qué emociones\, luchas y sueños se esconden detrás de cada nota? En este espectáculo único\, el cuarteto de cuerda Sunset Strings 4\, da voz a las grandes compositoras\, intérpretes y creadoras que han marcado generaciones con su arte\, su sensibilidad y su valentía. \n“Inspiradas” es más que un concierto: es un viaje sonoro a través de las emociones\, las historias y las inspiraciones de mujeres que cambiaron la forma de entender la música. Desde el pop y el rock hasta el blues\, el jazz y la canción de autora\, este programa recorre melodías que nacieron de experiencias reales: amores\, pérdidas\, lucha\, libertad y fuerza. \nCon arreglos originales y una mirada contemporánea\, el cuarteto transforma el repertorio popular en una experiencia íntima y poderosa. Las cuerdas hablan\, respiran\, cuentan. Entre cada pieza\, las intérpretes comparten fragmentos de las historias detrás de las canciones\, revelando qué movía a esas artistas a escribir\, cantar y luchar por hacerse oír en un mundo que muchas veces no les dio espacio. \nVen a descubrir cómo las cuerdas pueden contar historias\, cómo la música puede tender puentes entre géneros\, generaciones y emociones. Déjate envolver por los sonidos que nacen del alma y de la fuerza de las mujeres que encontraron en la música su forma más sincera de ser y de resistir. \n  \n \nTus entradas en ENTRADIUM \nEl cuarteto Sunset Strings se formó en el verano de 2022\, tras un meticuloso trabajo de investigación\, exploración y desarrollo de un repertorio de cuarteto de cuerda que se aleja de los cánones clásicos. Enfocadas en la música popular\, abarcan desde clásicos de antaño hasta éxitos contemporáneos\, atravesando diversos géneros y estilos. \nSu propósito es desafiar la concepción tradicional del cuarteto de cuerdas\, ofreciendo una perspectiva renovada y menos convencional de la música. \nEl cuarteto ha tocado en diversos lugares como Tortuga de Lavapiés\, La Encina Teatro o las Biergarten Nights de Príncipe Pío. En cada actuación\, aportan un enfoque distintivo y divulgativo\, enriqueciendo cada espectáculo con un toque personal.\nA través de sus presentaciones\, Sunset Strings busca no solo entretener\, sino también divulgar y expandir la apreciación por la versatilidad de la música en un contexto más amplio\, abarcando diversas épocas y estilos musicales.» \nActividad para soci@s. Si no lo eres\, la cuota de asociación es de 1€/año
URL:https://www.centrolatortuga.com/espectaculo/sunset-strings-4-2/
LOCATION:La Tortuga\, Calle de la espada 6 \, madrid\, Madrid\, España
CATEGORIES:Concierto,música
ATTACH;FMTTYPE=image/jpeg:https://www.centrolatortuga.com/wp-content/uploads/2025/10/IMG_5258-min-Luisa-Y.-Sanchez-Castellanos-sunset-4-string-scaled.jpeg
ORGANIZER;CN="CCIC La Tortuga":MAILTO:centrolatortuga@gmail.com
END:VEVENT
END:VCALENDAR