BEGIN:VCALENDAR
VERSION:2.0
PRODID:-//Centro de Creación e Investigación Cultural &quot;La Tortuga&quot; - ECPv6.15.20//NONSGML v1.0//EN
CALSCALE:GREGORIAN
METHOD:PUBLISH
X-ORIGINAL-URL:https://www.centrolatortuga.com
X-WR-CALDESC:Eventos para Centro de Creación e Investigación Cultural &quot;La Tortuga&quot;
REFRESH-INTERVAL;VALUE=DURATION:PT1H
X-Robots-Tag:noindex
X-PUBLISHED-TTL:PT1H
BEGIN:VTIMEZONE
TZID:Europe/Madrid
BEGIN:DAYLIGHT
TZOFFSETFROM:+0100
TZOFFSETTO:+0200
TZNAME:CEST
DTSTART:20240331T010000
END:DAYLIGHT
BEGIN:STANDARD
TZOFFSETFROM:+0200
TZOFFSETTO:+0100
TZNAME:CET
DTSTART:20241027T010000
END:STANDARD
BEGIN:DAYLIGHT
TZOFFSETFROM:+0100
TZOFFSETTO:+0200
TZNAME:CEST
DTSTART:20250330T010000
END:DAYLIGHT
BEGIN:STANDARD
TZOFFSETFROM:+0200
TZOFFSETTO:+0100
TZNAME:CET
DTSTART:20251026T010000
END:STANDARD
BEGIN:DAYLIGHT
TZOFFSETFROM:+0100
TZOFFSETTO:+0200
TZNAME:CEST
DTSTART:20260329T010000
END:DAYLIGHT
BEGIN:STANDARD
TZOFFSETFROM:+0200
TZOFFSETTO:+0100
TZNAME:CET
DTSTART:20261025T010000
END:STANDARD
END:VTIMEZONE
BEGIN:VEVENT
DTSTART;TZID=Europe/Madrid:20251116T130000
DTEND;TZID=Europe/Madrid:20251116T140000
DTSTAMP:20260422T120045
CREATED:20251111T112006Z
LAST-MODIFIED:20251111T151414Z
UID:17077-1763298000-1763301600@www.centrolatortuga.com
SUMMARY:Raras músicas 182
DESCRIPTION:Collapse nos reducen hasta el olvido\, disolviéndonos en una niebla de ruido blanco. Nos enredan en una maquinaria invisible\, donde se impone el silencio como un estado natural\, donde se borra todo rastro de singularidad. Nos despojan de la discordia\, de las aristas rebeldes\, esculpiéndonos en espectros huecos\, ecos conformes de un orden informe. Se nos enseña a temer la desviación\, a rendirnos al ritmo de la repetición\, a confundir la ausencia con la armonía. \nCollapse es una ruptura en la maquinaria\, una explosión contra la asfixia creativa\, una negativa a someterse a la uniformidad impuesta. No hay armonía aquí\, solo la disonancia de lo que se niega a desaparecer. Collapse es fractura\, desorden\, pero también un comienzo. En los escombros\, encontraremos los fragmentos de lo que éramos\, de lo que nos fue arrancado. Entre las grietas\, la chispa que perduró. \nResistir es desafiar el vacío. \nResistir es volverse ruido otra vez: imperfección\, caos. \nResistir es recordar que no somos simples partes: ¡somos fracturas! \nLa resistencia no es una elección; es todo lo que queda. \n  \nCollapse Bio \nCollapse es un proyecto audiovisual paralelo a Telephasycx!\, concebido como una extensión más visceral\, oscura y profundamente experimental de su visión artística. En Collapse\, los conceptos de distorsión y fragmentación se llevan al límite\, explorando un espacio donde el ruido se convierte tanto en una herramienta narrativa como conceptual. El proyecto desmantela las estructuras sonoras y visuales convencionales\, integrando elementos de ruido\, drone y paisajes sonoros industriales. \nA través de una estética minimalista y brutalista\, Collapse confronta a la audiencia con emociones crudas y sin filtrar\, desafiando las percepciones del orden y el confort musical. En constante evolución\, existe en un estado de deconstrucción\, donde la experimentación y el cuestionamiento de los límites artísticos sirven como sus fuerzas motrices. Aunque tiene sus raíces en las mismas influencias que Telephasycx! —incluyendo el accionismo vienés\, el brutalismo y el sonido vanguardista— Collapse adopta una perspectiva más introspectiva y disruptiva\, difuminando la línea entre estructura y caos. \n  \nconpra tus entradas aquí (ENTRADIUM) \n  \nRARAS MÚSICAS comenzó su actividad en Madrid en febrero de 2013\, produciendo eventos que presentan a músicos y colectivos dedicados principalmente a la exploración musical. Tiene como objetivo presentar el espectro más amplio posible de lo raro\, incluyendo composición e improvisación\, estilos o experimentación libre y su interacción con otras disciplinas artísticas.
URL:https://www.centrolatortuga.com/espectaculo/raras-musicas-182/
LOCATION:La Tortuga\, Calle de la espada 6 \, madrid\, Madrid\, España
CATEGORIES:Concierto,Libre improvisación
ATTACH;FMTTYPE=image/jpeg:https://www.centrolatortuga.com/wp-content/uploads/2025/11/Raras-musicas-dom-16-nov-25-1.jpg
ORGANIZER;CN="CCIC La Tortuga":MAILTO:centrolatortuga@gmail.com
END:VEVENT
END:VCALENDAR