BEGIN:VCALENDAR
VERSION:2.0
PRODID:-//Centro de Creación e Investigación Cultural &quot;La Tortuga&quot; - ECPv6.15.20//NONSGML v1.0//EN
CALSCALE:GREGORIAN
METHOD:PUBLISH
X-ORIGINAL-URL:https://www.centrolatortuga.com
X-WR-CALDESC:Eventos para Centro de Creación e Investigación Cultural &quot;La Tortuga&quot;
REFRESH-INTERVAL;VALUE=DURATION:PT1H
X-Robots-Tag:noindex
X-PUBLISHED-TTL:PT1H
BEGIN:VTIMEZONE
TZID:Europe/Madrid
BEGIN:DAYLIGHT
TZOFFSETFROM:+0100
TZOFFSETTO:+0200
TZNAME:CEST
DTSTART:20240331T010000
END:DAYLIGHT
BEGIN:STANDARD
TZOFFSETFROM:+0200
TZOFFSETTO:+0100
TZNAME:CET
DTSTART:20241027T010000
END:STANDARD
BEGIN:DAYLIGHT
TZOFFSETFROM:+0100
TZOFFSETTO:+0200
TZNAME:CEST
DTSTART:20250330T010000
END:DAYLIGHT
BEGIN:STANDARD
TZOFFSETFROM:+0200
TZOFFSETTO:+0100
TZNAME:CET
DTSTART:20251026T010000
END:STANDARD
BEGIN:DAYLIGHT
TZOFFSETFROM:+0100
TZOFFSETTO:+0200
TZNAME:CEST
DTSTART:20260329T010000
END:DAYLIGHT
BEGIN:STANDARD
TZOFFSETFROM:+0200
TZOFFSETTO:+0100
TZNAME:CET
DTSTART:20261025T010000
END:STANDARD
END:VTIMEZONE
BEGIN:VEVENT
DTSTART;TZID=Europe/Madrid:20251122T210000
DTEND;TZID=Europe/Madrid:20251122T223000
DTSTAMP:20260422T144940
CREATED:20251029T170618Z
LAST-MODIFIED:20251103T183533Z
UID:15752-1763845200-1763850600@www.centrolatortuga.com
SUMMARY:Hosaka concierto acústico
DESCRIPTION:«Ponte color\, que al morir los hombres son blancos» \nAlberto Spinetta\, 1969 \nSin arte\, somos seres grises\, autómatas\, bloques lanzados hacia un océano de algoritmos cuyas consecuencias no llegamos a comprender en su totalidad. \nPor ello\, es importante rescatar esos momentos en donde podamos sentir sin tener que dar explicaciones. Esos lugares en donde la poesía\, la música y las formas nos recuerdan que todavía hay algo que no nos puede ser arrebatado. \nEste concierto/recital busca reconectarnos con esa esencia que late dentro de cada uno de nosotros. Con esa sensibilidad que hace de crítica y mueve corazones inquietos hacia un mundo más libre\, tolerante y honesto. \n  \n \nConsigue tus entradas aquí \nActividad para soci@s. si no lo eres la cuota de asociación es de 1€/año y da acceso a la cafeta del centro.
URL:https://www.centrolatortuga.com/espectaculo/hosaka-concierto-acustico/
LOCATION:La Tortuga\, Calle de la espada 6 \, madrid\, Madrid\, España
CATEGORIES:Canción de autor,Concierto
ATTACH;FMTTYPE=image/jpeg:https://www.centrolatortuga.com/wp-content/uploads/2025/10/hosaka2-Paul-Sebastian-Aguilar-Cobos.jpg
ORGANIZER;CN="CCIC La Tortuga":MAILTO:centrolatortuga@gmail.com
END:VEVENT
END:VCALENDAR