BEGIN:VCALENDAR
VERSION:2.0
PRODID:-//Centro de Creación e Investigación Cultural &quot;La Tortuga&quot; - ECPv6.15.20//NONSGML v1.0//EN
CALSCALE:GREGORIAN
METHOD:PUBLISH
X-ORIGINAL-URL:https://www.centrolatortuga.com
X-WR-CALDESC:Eventos para Centro de Creación e Investigación Cultural &quot;La Tortuga&quot;
REFRESH-INTERVAL;VALUE=DURATION:PT1H
X-Robots-Tag:noindex
X-PUBLISHED-TTL:PT1H
BEGIN:VTIMEZONE
TZID:Europe/Madrid
BEGIN:DAYLIGHT
TZOFFSETFROM:+0100
TZOFFSETTO:+0200
TZNAME:CEST
DTSTART:20250330T010000
END:DAYLIGHT
BEGIN:STANDARD
TZOFFSETFROM:+0200
TZOFFSETTO:+0100
TZNAME:CET
DTSTART:20251026T010000
END:STANDARD
BEGIN:DAYLIGHT
TZOFFSETFROM:+0100
TZOFFSETTO:+0200
TZNAME:CEST
DTSTART:20260329T010000
END:DAYLIGHT
BEGIN:STANDARD
TZOFFSETFROM:+0200
TZOFFSETTO:+0100
TZNAME:CET
DTSTART:20261025T010000
END:STANDARD
BEGIN:DAYLIGHT
TZOFFSETFROM:+0100
TZOFFSETTO:+0200
TZNAME:CEST
DTSTART:20270328T010000
END:DAYLIGHT
BEGIN:STANDARD
TZOFFSETFROM:+0200
TZOFFSETTO:+0100
TZNAME:CET
DTSTART:20271031T010000
END:STANDARD
END:VTIMEZONE
BEGIN:VEVENT
DTSTART;TZID=Europe/Madrid:20260313T210000
DTEND;TZID=Europe/Madrid:20260313T220000
DTSTAMP:20260421T121346
CREATED:20260204T142611Z
LAST-MODIFIED:20260217T120513Z
UID:17334-1773435600-1773439200@www.centrolatortuga.com
SUMMARY:Y una frontera se quiebra. Ilusa
DESCRIPTION:Y UNA FRONTERA SE QUIEBRA. ILUSA \nEspectáculo de teatro poético: mimo\, clown poético y teatro de objeto. \nQuizá los abrigos sean una línea más en el camino. Una puerta más. Una frontera más. \nIlusa busca un abrigo. No encuentra refugio en este lugar. Busca un abrigo que pueda abrigar su marcha. Pero todo son puertas cerradas. Barreras. Límites. Fronteras. \nA veces una sola persona no puede enfrentarse a un muro. Por mucho que empuje. Por mucho que tire. Por mucho que grite. Pero quizá un grito común sí sea capaz de acabar con ese límite entre lo que fue y lo que podría ser. \n«Todo cuerpo necesita un abrigo. Y todo abrigo necesita alguien a quien refugiar. Sino las cosas comienzan a perder el sentido… \nQuizá sea eso: que ha perdido el sentido. \n  \nY una frontera se quiebra». \nANDREA BASTANDE \nActriz madrileña especializada en teatro físico y mimo. Fundadora de la Compañía Bastandes Producciones Ilusas\, con la cual viene trabajando en los últimos años \nen las ciudades de Santander\, Toledo y Madrid. \nHa trabajado con diversos espectáculos de creación propia en la Red Alternativa de Teatros de Madrid (Off Latina\, Sala Tarambana\, Sala Lagrada\, La escalera de Jacob…). \nSus últimos espectáculos se han dado en espacios de la ciudad de Santander como el Café de las Artes\, La Estación Marítima\, el Centro Cultural Cardenal Cisneros… y El Festival de Teatro de Villa de Mora (Toledo). Todos ellos orientados al teatro físico y el mimo de la mano de Compañías como La Flor de Bip y MIMOX Teatro\, con dirección de José Piris. \nTambién desarrolla clásicos como el Don Juan de Molière junto con la Compañía Meraki (Don Juan de Noviembre de Torrelavega en el Teatro Concha Espina). \nSu último trabajo como creadora escénica ha sido Ilusa\, un espectáculo unipersonal de teatro poético (mimo\, poesía y teatro de objeto) estrenado tras una residencia artística en el Café de las Artes (Santander) y guiado con visión externa de artistas como Cristina Collado\, Emilio Samino\, Lucas García\, Xavi Vila y José Piris. \nDesarrolla su carrera formativa en diversos espacios como Escuela de Artes Escénicas y Audiovisuales Metrópolis\, Teatro del Barrio\, Work in Progress\, Central de Cine\, Escuela Internacional del Gesto… Se especializa en dramaturgia y dirección en el Máster de Creación Teatral con dirección de Juan Mayorga en la Universidad Carlos III. \nFinalmente se especializa en teatro físico y mimo tras dos años de formación regular y un tercer año de maestría en la Escuela de mimo y teatro físico Nouveau Colombier\, con dirección de José Piris. \nActualmente colabora como actriz y titiritera con la Compañía de Títeres Etcétera. \nEste evento es exclusivamente para l@s soci@s. Si no lo eres\, sacando la entrada «general» te incluye la cuota ANUAL de soci@ (para lo que se solicitará también el DNI) \nENLACE A ENTRADAS
URL:https://www.centrolatortuga.com/espectaculo/y-una-frontera-se-quiebra-ilusa-2/
LOCATION:La Tortuga\, Calle de la espada 6 \, madrid\, Madrid\, España
CATEGORIES:Teatro
ATTACH;FMTTYPE=image/png:https://www.centrolatortuga.com/wp-content/uploads/2026/02/1-Andrea-Bastande.png
ORGANIZER;CN="CCIC La Tortuga":MAILTO:centrolatortuga@gmail.com
END:VEVENT
BEGIN:VEVENT
DTSTART;TZID=Europe/Madrid:20260314T130000
DTEND;TZID=Europe/Madrid:20260314T133000
DTSTAMP:20260421T121346
CREATED:20260217T120214Z
LAST-MODIFIED:20260217T120214Z
UID:17383-1773493200-1773495000@www.centrolatortuga.com
SUMMARY:La viuda negra
DESCRIPTION:Microteatro de mimo simbólico. \nElla vive bajo el silencio impuesto por su padre\, por su esposo… por una sombra masculina que cambia de figura. Pasa el tiempo y\, a medida que pierde su juventud y su identidad\, las sombras que le rodean van entrando dentro de ella. \nA veces\, bajo la oscuridad del dolor\, nos adentramos en algo parecido a los sueños… Pero estando despiertas. Imágenes difusas se desvanecen como el humo. Pero una sensación nos queda dentro. \nHay tantos cambios en una persona. Narciso fue transformado en flor\, Filomena en pájaro después de ser violada y perseguida por Tereo\, Aracne y su orgullo en araña… \nSiempre se ha escrito que los dioses son los únicos capaces de decidir su transformación… \n¿Y si pudiéramos elegir nuestra propia metamorfosis? \nEsta vez\, ella\, la protagonista de esta y tantas historias\, acepta una metamorfosis que la transforma en una viuda negra. Con todo lo que eso conlleva… \nNunca sabremos si lo sucedido ocurre realmente. Si ocurre solamente en su imaginario. O\, quizá\, únicamente en el nuestro… \nUna historia inspirada en leyendas mitológicas como la de Aracne. Pero\, esta vez\, la metamorfosis característica de este tipo de narraciones se incorpora a esta problemática social (la violencia de género) no para imponer un castigo a la protagonista\, sino para dotarla de una fortaleza oculta que muchas veces no sabemos reconocer en nosotras mismas. \nLuego de la obra se abrirá un espacio de foro y reflexión colectivo. \nAndrea Bastande \nActriz madrileña especializada en teatro físico y mimo. Fundadora de la Compañía Bastandes Producciones Ilusas\, con la cual viene trabajando en los últimos años en las ciudades de Santander\, Toledo y Madrid. \nHa trabajado con diversos espectáculos de creación propia en la Red Alternativa de Teatros de Madrid (Off Latina\, Sala Tarambana\, Sala Lagrada\, La escalera de Jacob…). \nSus últimos espectáculos se han dado en espacios de la ciudad de Santander como el Café de las Artes\, La Estación Marítima\, el Centro Cultural Cardenal Cisneros… y El Festival de Teatro de Villa de Mora (Toledo). Todos ellos orientados al teatro físico y el mimo de la mano de Compañías como La Flor de Bip y MIMOX Teatro\, con dirección de José Piris. \nTambién desarrolla clásicos como el Don Juan de Molière junto con la Compañía Meraki (Don Juan de Noviembre de Torrelavega en el Teatro Concha Espina). \nSu último trabajo como creadora escénica ha sido Ilusa\, un espectáculo unipersonal de teatro poético (mimo\, poesía y teatro de objeto) estrenado tras una residencia artística en el Café de las Artes (Santander) y guiado con visión externa de artistas como Cristina Collado\, Emilio Samino\, Lucas García\, Xavi Vila y José Piris. \nDesarrolla su carrera formativa en diversos espacios como Escuela de Artes Escénicas y Audiovisuales Metrópolis\, Teatro del Barrio\, Work in Progress\, Central de Cine\, Escuela Internacional del Gesto… Se especializa en dramaturgia y dirección en el Máster de Creación Teatral con dirección de Juan Mayorga en la Universidad Carlos III. \nFinalmente se especializa en teatro físico y mimo tras dos años de formación regular y un tercer año de maestría en la Escuela de mimo y teatro físico Nouveau Colombier\, con dirección de José Piris. \nActualmente colabora como actriz y titiritera con la Compañía de Títeres Etcétera. \nENLACE A ENTRADAS \n  \n  \n  \n  \n  \n  \n  \n  \n  \n  \n  \n 
URL:https://www.centrolatortuga.com/espectaculo/la-viuda-negra/
LOCATION:Madrid
CATEGORIES:Teatro
ATTACH;FMTTYPE=image/jpeg:https://www.centrolatortuga.com/wp-content/uploads/2026/02/Cartel-La-viuda-negra-La-torutga.jpg
ORGANIZER;CN="CCIC La Tortuga":MAILTO:centrolatortuga@gmail.com
END:VEVENT
BEGIN:VEVENT
DTSTART;TZID=Europe/Madrid:20260328T080000
DTEND;TZID=Europe/Madrid:20260328T170000
DTSTAMP:20260421T121346
CREATED:20260328T132657Z
LAST-MODIFIED:20260328T132657Z
UID:17509-1774684800-1774717200@www.centrolatortuga.com
SUMMARY:CENIZAS
DESCRIPTION:CENIZAS es un proyecto de teatro-danza basado en el butō contemporáneo que explora la tensión entre fuerzas opuestas: luz y sombra\, dominio y dependencia\, memoria y transformación. Concebida en 2025\, en diálogo con el 80º aniversario de la bomba atómica de Hiroshima\, CENIZAS reflexiona sobre destrucción y transformación\, conectando con el origen del butō como respuesta corporal y cultural al trauma histórico\, sin representación literal ni reconstrucción histórica. \nEl nombre EN2 juega con dos significados entrelazados: \nEN (円) es la palabra japonesa para “círculo”\, símbolo de unidad\, vacío\, impermanencia y del flujo continuo de la vida y la creación — el mismo espíritu que anima al Butoh. \nEn dos\, en español\, alude a nuestra presencia dual\, a nuestro lenguaje compartido\, y a nuestra acción en territorio hispano. \nEN2 no es Butoh\, ni es teatro. Partimos de la esencia expresiva del Butoh\, pero dejamos que se mezcle\, que mute a nivel celular con otras formas expresivas: la voz\, la performance\, el absurdo\, el ritual\, el cuerpo y el espacio. \nEntradas: https://entradium.com/events/cenizas-madrid \nDomiziano Cristopharo \nactor y director. Desde 1990 profundiza su investigación artística con estudios en Psicología de la Forma\, Teatro Yoga\, Técnica Vocal y Butoh tambien con Masaki Iwana (considerado uno de los más grandes intérpretes Japones en el mundo). Fundador de la compañía Materia Prima\, ha sido nominado dos veces a los premios David di Donatello (el premio GOYA Italiano) y ha ganado múltiples festivales internacionales. \nFranja’ \nPsicopedagogo\, CAP\, Experto en Psicomotricidad Vivencial\, Quiromasajista Profesional y Formación en Instrucción de Yoga. Cofundador del Centro de Atención Psicopedagógica EGEA\, con más de 20 años de experiencia profesional. \nEste evento es exclusivamente para l@s soci@s. Si no lo eres\, sacando la entrada «general» te incluye la cuota ANUAL de soci@ (para lo que se solicitará también el DNI)
URL:https://www.centrolatortuga.com/espectaculo/cenizas/
LOCATION:Madrid
ATTACH;FMTTYPE=image/jpeg:https://www.centrolatortuga.com/wp-content/uploads/2026/03/cenizas-DEFINITIVO.mp4_snapshot_21.42.873-Domiziano-Delvaux-Cristopharo.jpg
END:VEVENT
BEGIN:VEVENT
DTSTART;TZID=Europe/Madrid:20260328T210000
DTEND;TZID=Europe/Madrid:20260328T220000
DTSTAMP:20260421T121346
CREATED:20260321T134303Z
LAST-MODIFIED:20260321T134303Z
UID:17478-1774731600-1774735200@www.centrolatortuga.com
SUMMARY:La fiesta de nadie
DESCRIPTION:LOS DESIGUALES presentan una noche de creaciones breves donde el teatro sucede en presente. Tres monólogos\, tres universos\, tres formas de habitar el cuerpo y la palabra. Un recorrido íntimo\, físico y poético por la fragilidad\, el absurdo y lo profundamente humano. Cada función es distinta: cambian las escenas\, los roles y las miradas. Un espacio para probar\, arriesgar y encontrarnos con el público desde lo vivo. Teatro cercano\, sin artificios\, en diálogo directo con quien mira. \nLos Desiguales es un colectivo escénico nacido en Madrid a partir del encuentro entre creadoras y creadores que cursan el Máster en Creación Teatral\, unidos por la necesidad de hacer teatro de manera constante\, libre y colectiva. \nEl grupo investiga la escena desde la diferencia: de cuerpos\, lenguajes\, trayectorias\, sensibilidades y formas de creación. Cada integrante asume distintos roles —dirección\, actuación\, dramaturgia\, movimiento— en un proceso rotativo que concibe el teatro como un territorio de exploración\, riesgo y diálogo con el público. \nTrabajan principalmente con formatos breves\, teatro físico y dramaturgias contemporáneas\, buscando una relación cercana\, viva y directa con el espectador. Su interés se centra en lo humano\, lo cotidiano y lo contradictorio\, entendiendo la creación como un espacio de encuentro donde lo desigual se vuelve motor poético y político. \nEste evento es exclusivamente para l@s soci@s. Si no lo eres\, sacando la entrada «general» te incluye la cuota ANUAL de soci@ (para lo que se solicitará también el DNI) \n  \nCompra tus entradas aquí
URL:https://www.centrolatortuga.com/espectaculo/la-fiesta-de-nadie-3/
LOCATION:La Tortuga\, Calle de la espada 6 \, madrid\, Madrid\, España
CATEGORIES:Teatro
ATTACH;FMTTYPE=image/jpeg:https://www.centrolatortuga.com/wp-content/uploads/2026/03/PHOTO-2026-03-19-22-24-44-Pilar-Carre.jpg
ORGANIZER;CN="CCIC La Tortuga":MAILTO:centrolatortuga@gmail.com
END:VEVENT
BEGIN:VEVENT
DTSTART;TZID=Europe/Madrid:20260410T210000
DTEND;TZID=Europe/Madrid:20260410T220000
DTSTAMP:20260421T121346
CREATED:20260328T122643Z
LAST-MODIFIED:20260328T122643Z
UID:17501-1775854800-1775858400@www.centrolatortuga.com
SUMMARY:Concierto Protozoo
DESCRIPTION:Protozoo \nEs el resultado del encuentro y posterior fusión de cuatro músicos en vías de expresión\, que deriva en lo que comúnmente hacemos en llamar música. \nLos resultados nunca fueron los esperados\, pues a priori no había ningún objetivo ni hipótesis agendado previamente. \nCómplices del proceso entrópico no hubo más remedio a estas alturas del experimento que dejarse llevar y ver que es lo que el presente ladino y posterior futuro caprichoso tienen a bien proveer. \nComo única premisa\, los instrumentos siempre han de permanecer afinados… \nPor lo que pueda pasar. \nExtraído del diario de a bordo. \nProtozoo \nhttps://youtu.be/Lh_mvrKeiNw?si=PeMMHFU-tek0BVin \nEste evento es exclusivamente para l@s soci@s. Si no lo eres\, sacando la entrada «general» te incluye la cuota ANUAL de soci@ (para lo que se solicitará también el DNI) \n 
URL:https://www.centrolatortuga.com/espectaculo/concierto-protozoo/
LOCATION:La Tortuga\, Calle de la espada 6 \, madrid\, Madrid\, España
CATEGORIES:Concierto
ATTACH;FMTTYPE=image/png:https://www.centrolatortuga.com/wp-content/uploads/2026/03/Captura-2026-03-18-a-las-11.31.58-Adrian-Llopis.png
ORGANIZER;CN="CCIC La Tortuga":MAILTO:centrolatortuga@gmail.com
END:VEVENT
BEGIN:VEVENT
DTSTART;TZID=Europe/Madrid:20260411T210000
DTEND;TZID=Europe/Madrid:20260411T223000
DTSTAMP:20260421T121346
CREATED:20260328T110654Z
LAST-MODIFIED:20260328T110654Z
UID:17494-1775941200-1775946600@www.centrolatortuga.com
SUMMARY:Siblings en Acústico
DESCRIPTION:Nuestro show trata de mezclar clásicos de los 60’s\, 70’s y éxitos más actuales\, siempre bajo una mirada enfocada en la armonía vocal y en texturas suaves a todos los oídos. Traemos a la mesa un arreglo pulido y relajante a todos los temas que tocamos\, poniendo siempre por delante la textura a la virtuosidad. \nSiblings es una banda formada por Javi\, Dima\, María y Valle que buscan traer unos arreglos armónicos pulidos a los clasicos de los 60s y los 70s \nEnlace a entradas \nEste evento es exclusivamente para l@s soci@s. Si no lo eres\, sacando la entrada «general» te incluye la cuota ANUAL de soci@ (para lo que se solicitará también el DNI)
URL:https://www.centrolatortuga.com/espectaculo/siblings-en-acustico/
LOCATION:La Tortuga\, Calle de la espada 6 \, madrid\, Madrid\, España
CATEGORIES:Concierto
ATTACH;FMTTYPE=image/jpeg:https://www.centrolatortuga.com/wp-content/uploads/2026/03/cartel-la-tortuga-Marcos-Escobar.jpeg
ORGANIZER;CN="CCIC La Tortuga":MAILTO:centrolatortuga@gmail.com
END:VEVENT
BEGIN:VEVENT
DTSTART;TZID=Europe/Madrid:20260412T130000
DTEND;TZID=Europe/Madrid:20260412T140000
DTSTAMP:20260421T121346
CREATED:20260330T110227Z
LAST-MODIFIED:20260330T110348Z
UID:17515-1775998800-1776002400@www.centrolatortuga.com
SUMMARY:La Company
DESCRIPTION:La Company \nUn grupo de personas acude a la oficina un día cualquiera\, trabajan y se van. Son gente normal en un trabajo normal que vive una vida normal. \nLa Company es una representación coral de esa normalidad que se vive cada día en infinidad de oficinas de este mundo nuestro\, que alaba la vocación profesional\, la productividad y el sacrificio para el enriquecimiento ¡oh\, sorpresa! de otros. \nEntradas: https://entradium.com/events/la-company \nEste evento es exclusivamente para l@s soci@s. Si no lo eres\, sacando la entrada «general» te incluye la cuota ANUAL de soci@ (para lo que se solicitará también el DNI)
URL:https://www.centrolatortuga.com/espectaculo/la-company-2/
LOCATION:La Tortuga\, Calle de la espada 6 \, madrid\, Madrid\, España
CATEGORIES:Teatro
ORGANIZER;CN="CCIC La Tortuga":MAILTO:centrolatortuga@gmail.com
END:VEVENT
BEGIN:VEVENT
DTSTART;TZID=Europe/Madrid:20260412T193000
DTEND;TZID=Europe/Madrid:20260412T210000
DTSTAMP:20260421T121346
CREATED:20260328T121324Z
LAST-MODIFIED:20260328T121324Z
UID:17498-1776022200-1776027600@www.centrolatortuga.com
SUMMARY:Raras Músicas
DESCRIPTION:Los músicos David Paredes y Zlatko Baracskai ofrecerán un concierto donde presentarán por primera vez en directo su proyecto Mravi. La cita estará protagonizada por la improvisación y la interacción entre ambos artistas\, que irán construyendo el sonido en tiempo real. \nLuis González convoca la rugosidad de un cassette mono de 1981 y la crudeza del portaestudio Fostex; Claudio Satuchne responde con cassettes autoproducidos de 1993\, un walkman sampler y un no-input mixer que transforma el silencio en electricidad. Mapas del caos es un viaje sonoro tejido con memorias magnéticas y desvíos imprevistos. sonoro tejido con memorias magnéticas y desvíos imprevistos. \nhttps://latatucera.bandcamp.com/album/mapas-del-caos \nRARAS MÚSICAS comenzó su actividad en Madrid en febrero de 2013\, produciendo eventos que presentan a músicos y colectivos dedicados principalmente a la exploración musical. Tiene como objetivo presentar el espectro más amplio posible de lo raro\, incluyendo composición e improvisación\, estilos o experimentación libre y su interacción con otras disciplinas artísticas. \nhttp://rarasmusicasmadrid.wordpress.com/ \n  \nhttps://entradium.com/events/raras-musicas \nEste evento es exclusivamente para l@s soci@s. Si no lo eres\, sacando la entrada «general» te incluye la cuota ANUAL de soci@ (para lo que se solicitará también el DNI)
URL:https://www.centrolatortuga.com/espectaculo/raras-musicas-2/
LOCATION:La Tortuga\, Calle de la espada 6 \, madrid\, Madrid\, España
CATEGORIES:Concierto,Libre improvisación
ORGANIZER;CN="CCIC La Tortuga":MAILTO:centrolatortuga@gmail.com
END:VEVENT
BEGIN:VEVENT
DTSTART;TZID=Europe/Madrid:20260424T210000
DTEND;TZID=Europe/Madrid:20260424T223000
DTSTAMP:20260421T121346
CREATED:20260206T114134Z
LAST-MODIFIED:20260206T114134Z
UID:17347-1777064400-1777069800@www.centrolatortuga.com
SUMMARY:Concierto de Leticia con Z
DESCRIPTION:Leticia con Z vuelve a Madrid. Pop irreverente de estribillos memorables. El compositor de «Eres tan travesti» y otros hits propios y ajenos desembarca en Madrid con su arsenal de rimas. Habrá colaboraciones estelares. Leticia con Z es un artista murciano que lleva 20 años escribiendo canciones para sí mismo y para otros artistas: Alaska\, Supremme de Luxe y La Prohibida cantan sus canciones\, entre otros. Su música ha aparecido en tres programas de ATRES PREMIUM Player: «Mariliendre»\, «El enigma Nadiuska» y «Reinas al rescate». También ha compuesto música para teatro. Ven a conocer su proyecto y a corear versos culposos. Un concierto íntimo con mucha interacción con el público. Música disponible en todas las plataformas. \nPablo Nicolás Zaragoza \nSoy un compositor murciano que lleva 20 años componiendo canciones. Leticia con Z es el nombre de mi proyecto. Además de cantar mis propios temas\, también cantan mis canciones artistas como Alaska\, Supremme de Luxe o La Prohibida. Mis canciones han aparecido en tres programas de ATRES PREMIUM Player: «Mariliendre»\, «El enigma Nadiuska» y «Reinas al rescate». También he compuesto para teatro. He publicado 3 discos actuado en un puñado de ciudades españolas. En algunas canciones de mis directos colaboro con varios instrumentistas y bailarines. Me gusta interactuar con el público. Mis música es irreverente y provocadora. \nEste evento es exclusivamente para l@s soci@s. Si no lo eres\, sacando la entrada «general» te incluye la cuota ANUAL de soci@ (para lo que se solicitará también el DNI \nentradas
URL:https://www.centrolatortuga.com/espectaculo/concierto-de-leticia-con-z/
LOCATION:La Tortuga\, Calle de la espada 6 \, madrid\, Madrid\, España
CATEGORIES:Concierto
ATTACH;FMTTYPE=image/png:https://www.centrolatortuga.com/wp-content/uploads/2026/02/Leticia-con-Z-La-Tortuga-24-abril-2026-Madrid-cartel.png
ORGANIZER;CN="CCIC La Tortuga":MAILTO:centrolatortuga@gmail.com
END:VEVENT
BEGIN:VEVENT
DTSTART;TZID=Europe/Madrid:20260425T210000
DTEND;TZID=Europe/Madrid:20260425T223000
DTSTAMP:20260421T121346
CREATED:20260328T130515Z
LAST-MODIFIED:20260328T130515Z
UID:17505-1777150800-1777156200@www.centrolatortuga.com
SUMMARY:PVXS (PerverXiones) en concierto
DESCRIPTION:Somos un grupo musical formado hace 13 años en Ciempozuelos\, nos caracterizamos por versionar clásicos del Rock tanto en inglés como en castellano. Con conciertos habituales en la zona sur de Madrid. Y los componentes son: \nBATERIA: Nacho Vacas. \nBAJO: Fran Martin \nGUITARRA: Rigo Peral \nVOZ: Ruth Zúñiga. \nEn un mundo tan perverxo es hora de realizar re-versiones de nosotros mismos y disfrutar bailando y cantando. \nEl próximo 25 de abril concierto de PVXS (PerveXiones) en el Centro de Creación e Investigación Cultural LA TORTUGA (C/ Espada\, 6. Madrid). \nOs esperamos. \nhttps://entradium.com/events/pvxs-perverxiones-en-concierto \nEste evento es exclusivamente para l@s soci@s. Si no lo eres\, sacando la entrada «general» te incluye la cuota ANUAL de soci@ (para lo que se solicitará también el DNI)
URL:https://www.centrolatortuga.com/espectaculo/pvxs-perverxiones-en-concierto/
LOCATION:La Tortuga\, Calle de la espada 6 \, madrid\, Madrid\, España
CATEGORIES:Concierto,Rock
ATTACH;FMTTYPE=image/jpeg:https://www.centrolatortuga.com/wp-content/uploads/2026/03/calavera-PX-Francisco-J.-Martin-Vaya.jpg
ORGANIZER;CN="CCIC La Tortuga":MAILTO:centrolatortuga@gmail.com
END:VEVENT
BEGIN:VEVENT
DTSTART;TZID=Europe/Madrid:20260426T000000
DTEND;TZID=Europe/Madrid:20260426T133000
DTSTAMP:20260421T121346
CREATED:20260407T145955Z
LAST-MODIFIED:20260407T145955Z
UID:17552-1777161600-1777210200@www.centrolatortuga.com
SUMMARY:Los Bultaco Tralla: "Concierto Surf y Rock&Roll"
DESCRIPTION:Sonido vintage\, reverberación y actitud. Nuestro viaje recorre el surf rock y el rock & roll de los 60\, con ecos de Link Wray\, The Shadows y la esencia cinematográfica de Pulp Fiction. Guitarras que rugen\, ritmos que hipnotizan. Primera cita\, primer disparo… no te lo pierdas. \nEnlace a entradas \nEste evento es exclusivamente para l@s soci@s. Si no lo eres\, sacando la entrada «general» te incluye la cuota ANUAL de soci@ (para lo que se solicitará también el DNI)
URL:https://www.centrolatortuga.com/espectaculo/los-bultaco-tralla-concierto-surf-y-rockroll/
LOCATION:La Tortuga\, Calle de la espada 6 \, madrid\, Madrid\, España
ATTACH;FMTTYPE=image/png:https://www.centrolatortuga.com/wp-content/uploads/2026/04/cartel_bultaco_26_1-Paco-¡¡P.png
ORGANIZER;CN="CCIC La Tortuga":MAILTO:centrolatortuga@gmail.com
END:VEVENT
BEGIN:VEVENT
DTSTART;TZID=Europe/Madrid:20260426T193000
DTEND;TZID=Europe/Madrid:20260426T210000
DTSTAMP:20260421T121346
CREATED:20260417T110808Z
LAST-MODIFIED:20260417T110808Z
UID:17590-1777231800-1777237200@www.centrolatortuga.com
SUMMARY:Raras Músicas
DESCRIPTION:SESIÓN 187 \nDelfín Trío es una formación española de «power trio» de improvisación libre y música experimental activa desde 2022 en Madrid. Integrado por David Paredes (guitarra modular)\, Andrés León (bajo eléctrico) y Chema Pastor (batería)\, se centra en la creación espontánea y la interacción sonora en tiempo real: https://delfintrio.com/ \nRARAS MÚSICAS comenzó su actividad en Madrid en febrero de 2013\, produciendo eventos que presentan a músicos y colectivos dedicados principalmente a la exploración musical. Tiene como objetivo presentar el espectro más amplio posible de lo raro\, incluyendo composición e improvisación\, estilos o experimentación libre y su interacción con otras disciplinas artísticas. Los fundadores iniciales fueron Gregorio Kazaroff e Ivor R. Tamplin\, a partir de la idea inicial propuesta por Gregorio. Más tarde se incorporaron Javier Entonado\, Jorge Cabadas\, Ricardo Tejero y Mariana Piñeiro. \nHasta la fecha han participado músicos y artistas locales\, nacionales e internacionales. Con ello\, RARAS MÚSICAS se ha ido haciendo un hueco en la escena experimental de Madrid\, apareciendo en la sección “Flores” de Oro Molido\, la revista nacional de referencia sobre experimentación musical y arte sonoro. \nhttps://entradium.com/events/raras-musicas-sesion-157 \nEste evento es exclusivamente para l@s soci@s. Si no lo eres\, sacando la entrada «general» te incluye la cuota ANUAL de soci@ (para lo que se solicitará también el DNI)
URL:https://www.centrolatortuga.com/espectaculo/raras-musicas-3/
LOCATION:La Tortuga\, Calle de la espada 6 \, madrid\, Madrid\, España
CATEGORIES:Concierto,Libre improvisación
ATTACH;FMTTYPE=image/jpeg:https://www.centrolatortuga.com/wp-content/uploads/2026/04/RM-187.jpeg
ORGANIZER;CN="CCIC La Tortuga":MAILTO:centrolatortuga@gmail.com
END:VEVENT
BEGIN:VEVENT
DTSTART;TZID=Europe/Madrid:20260504T180000
DTEND;TZID=Europe/Madrid:20260504T183000
DTSTAMP:20260421T121346
CREATED:20260327T103637Z
LAST-MODIFIED:20260327T103930Z
UID:17488-1777917600-1777919400@www.centrolatortuga.com
SUMMARY:Presentación del libro "Pájaro negro que danzas"\, biografía de Freddy Romero
DESCRIPTION:Presentación de Pájaro negro que danzas\, biografía del maestro y bailarín de Graham Freddy Romero\, integrante de las mejores compañías de danza en México\, parte del elenco fundador del Ballet contemporáneo del Teatro San Martín en Argentina y de la Alvin Ailey Dance Theatre\, compañía afroamericana de repertorio de EEUU. Cuenta con valioso material de archivo y fotográfico. Luego de presentarse en México para el día internacional de la danza\, llega a Madrid acompañado de una proyección de fotos y algunos videos de archivo. Se encontrarán ejemplares a la venta. \nhttps://www.lanacion.com.ar/cultura/este-enero-rima-con-freddy-romero-nid09012026/ \nEste evento es exclusivamente para l@s soci@s. Si no lo eres\, sacando la entrada «general» te incluye la cuota ANUAL de soci@ (para lo que se solicitará también el DNI)
URL:https://www.centrolatortuga.com/espectaculo/presentacion-libro-pajaro-negro-que-danzas-biografia-de-freddy-romero/
LOCATION:La Tortuga\, Calle de la espada 6 \, madrid\, Madrid\, España
CATEGORIES:Charlas,Presentación Libro
ATTACH;FMTTYPE=image/jpeg:https://www.centrolatortuga.com/wp-content/uploads/2026/03/Freddy-danza-1-Nea-Rattagan.jpg
ORGANIZER;CN="CCIC La Tortuga":MAILTO:centrolatortuga@gmail.com
END:VEVENT
END:VCALENDAR