BEGIN:VCALENDAR
VERSION:2.0
PRODID:-//Centro de Creación e Investigación Cultural &quot;La Tortuga&quot; - ECPv6.15.20//NONSGML v1.0//EN
CALSCALE:GREGORIAN
METHOD:PUBLISH
X-WR-CALNAME:Centro de Creación e Investigación Cultural &quot;La Tortuga&quot;
X-ORIGINAL-URL:https://www.centrolatortuga.com
X-WR-CALDESC:Eventos para Centro de Creación e Investigación Cultural &quot;La Tortuga&quot;
REFRESH-INTERVAL;VALUE=DURATION:PT1H
X-Robots-Tag:noindex
X-PUBLISHED-TTL:PT1H
BEGIN:VTIMEZONE
TZID:Europe/Madrid
BEGIN:DAYLIGHT
TZOFFSETFROM:+0100
TZOFFSETTO:+0200
TZNAME:CEST
DTSTART:20250330T010000
END:DAYLIGHT
BEGIN:STANDARD
TZOFFSETFROM:+0200
TZOFFSETTO:+0100
TZNAME:CET
DTSTART:20251026T010000
END:STANDARD
BEGIN:DAYLIGHT
TZOFFSETFROM:+0100
TZOFFSETTO:+0200
TZNAME:CEST
DTSTART:20260329T010000
END:DAYLIGHT
BEGIN:STANDARD
TZOFFSETFROM:+0200
TZOFFSETTO:+0100
TZNAME:CET
DTSTART:20261025T010000
END:STANDARD
BEGIN:DAYLIGHT
TZOFFSETFROM:+0100
TZOFFSETTO:+0200
TZNAME:CEST
DTSTART:20270328T010000
END:DAYLIGHT
BEGIN:STANDARD
TZOFFSETFROM:+0200
TZOFFSETTO:+0100
TZNAME:CET
DTSTART:20271031T010000
END:STANDARD
END:VTIMEZONE
BEGIN:VEVENT
DTSTART;TZID=Europe/Madrid:20260201T130000
DTEND;TZID=Europe/Madrid:20260201T140000
DTSTAMP:20260421T133346
CREATED:20260124T202618Z
LAST-MODIFIED:20260124T202618Z
UID:17292-1769950800-1769954400@www.centrolatortuga.com
SUMMARY:La Company
DESCRIPTION:La Company \nUn grupo de personas acude a la oficina un día cualquiera\, trabajan y se van. Son gente normal en un trabajo normal que vive una vida normal. \nLa Company es una representación coral de esa normalidad que se vive cada día en infinidad de oficinas de este mundo nuestro\, que alaba la vocación profesional\, la productividad y el sacrificio para el enriquecimiento ¡oh\, sorpresa! de otros. \nMes del aniversario del La Tortuga. La entrada incluye consumición \nEntradas: https://entradium.com/events/la-company \nEste evento es exclusivamente para l@s soci@s. Si no lo eres\, sacando la entrada «general» te incluye la cuota ANUAL de soci@ (para lo que se solicitará también el DNI)
URL:https://www.centrolatortuga.com/espectaculo/la-company/
LOCATION:Madrid
ATTACH;FMTTYPE=image/jpeg:https://www.centrolatortuga.com/wp-content/uploads/2026/01/WhatsApp-Image-2026-01-24-at-17.34.17.jpeg
ORGANIZER;CN="CCIC La Tortuga":MAILTO:centrolatortuga@gmail.com
END:VEVENT
BEGIN:VEVENT
DTSTART;TZID=Europe/Madrid:20260201T210000
DTEND;TZID=Europe/Madrid:20260201T220000
DTSTAMP:20260421T133346
CREATED:20260222T101602Z
LAST-MODIFIED:20260222T101602Z
UID:17396-1769979600-1769983200@www.centrolatortuga.com
SUMMARY:La fiesta de nadie
DESCRIPTION:LOS DESIGUALES presentan una noche de creaciones breves donde el teatro sucede en presente. Tres monólogos\, tres universos\, tres formas de habitar el cuerpo y la palabra. Un recorrido íntimo\, físico y poético por la fragilidad\, el absurdo y lo profundamente humano. Cada función es distinta: cambian las escenas\, los roles y las miradas. Un espacio para probar\, arriesgar y encontrarnos con el público desde lo vivo. Teatro cercano\, sin artificios\, en diálogo directo con quien mira. \nLos Desiguales es un colectivo escénico nacido en Madrid a partir del encuentro entre creadoras y creadores que cursan el Máster en Creación Teatral\, unidos por la necesidad de hacer teatro de manera constante\, libre y colectiva. \nEl grupo investiga la escena desde la diferencia: de cuerpos\, lenguajes\, trayectorias\, sensibilidades y formas de creación. Cada integrante asume distintos roles —dirección\, actuación\, dramaturgia\, movimiento— en un proceso rotativo que concibe el teatro como un territorio de exploración\, riesgo y diálogo con el público. \nTrabajan principalmente con formatos breves\, teatro físico y dramaturgias contemporáneas\, buscando una relación cercana\, viva y directa con el espectador. Su interés se centra en lo humano\, lo cotidiano y lo contradictorio\, entendiendo la creación como un espacio de encuentro donde lo desigual se vuelve motor poético y político. \nEntradas: https://entradium.com/events/la-fiesta-de-jose \nEste evento es exclusivamente para l@s soci@s. Si no lo eres\, sacando la entrada «general» te incluye la cuota ANUAL de soci@ (para lo que se solicitará también el DNI)
URL:https://www.centrolatortuga.com/espectaculo/la-fiesta-de-nadie/
LOCATION:La Tortuga\, Calle de la espada 6 \, madrid\, Madrid\, España
CATEGORIES:Teatro
ATTACH;FMTTYPE=image/png:https://www.centrolatortuga.com/wp-content/uploads/2026/02/LA-FIESTA-DE-NADIE-Edicion-2.png
ORGANIZER;CN="CCIC La Tortuga":MAILTO:centrolatortuga@gmail.com
END:VEVENT
BEGIN:VEVENT
DTSTART;TZID=Europe/Madrid:20260206T203000
DTEND;TZID=Europe/Madrid:20260206T223000
DTSTAMP:20260421T133346
CREATED:20260202T173751Z
LAST-MODIFIED:20260202T173751Z
UID:17319-1770409800-1770417000@www.centrolatortuga.com
SUMMARY:Raras Músicas sesión 184
DESCRIPTION:Ricardo Tejero es un saxofonista y clarinetista español consolidado como una figura clave de la improvisación libre y el free jazz\, con una trayectoria que conecta la escena madrileña con la británica. Se inició en la improvisación en los años 90 bajo la tutela de figuras como Wade Matthews y Chefa Alonso. Residió 13 años en el Reino Unido\, donde se licenció en el Leeds College of Music y realizó un máster en la Brunel University de Londres. \nPALOMA CARRASCO LÓPEZ \nDocente e improvisadora libre. Estudió piano clásico y violonchelo\, enfocándose después a la improvisación libre desde 2003. Desde 2014 se forma también en contact improvisación y danza improvisada. Su foco de interés apunta a la exploración de las sinergias entre sonido y movimiento en el campo de la improvisación libre interdisciplinar. En 2017 lanzó su proyecto Escucha en Movimiento\, que se centra en la creación de espacios de exploración compartida y extendida de la libre improvisación entre músicos y bailarines\, y que también contempla la organización de talleres y la programación escénica en este ámbito. Desde entonces\, y en línea con ello\, ha seguido formándose\, investigando y compartiendo este trabajo con músicos y bailarines por toda Europa\, asistiendo a encuentros como “Impro Summer Intensive” (Amsterdam)\, “Laboratori d’improvisació multidisciplinària” (Barcelona)\, “Common Ground: music meets dance” (Berlín)\, “Soundance” (Berlín)\, “Conférence Européenne Pour l’Improvisation” (Valcivières) \nRARAS MÚSICAS comenzó su actividad en Madrid en febrero de 2013\, produciendo eventos que presentan a músicos y colectivos dedicados principalmente a la exploración musical. Tiene como objetivo presentar el espectro más amplio posible de lo raro\, incluyendo composición e improvisación\, estilos o experimentación libre y su interacción con otras disciplinas artísticas. Los fundadores iniciales fueron Gregorio Kazaroff e Ivor R. Tamplin\, a partir de la idea inicial propuesta por Gregorio. Más tarde se incorporaron Javier Entonado\, Jorge Cabadas\, Ricardo Tejero y Mariana Piñeiro. \nHasta la fecha han participado músicos y artistas locales\, nacionales e internacionales. Con ello\, RARAS MÚSICAS se ha ido haciendo un hueco en la escena experimental de Madrid\, apareciendo en la sección “Flores” de Oro Molido\, la revista nacional de referencia sobre experimentación musical y arte sonoro. \nENTRADAS \nMes del aniversario del La Tortuga. La entrada incluye consumición \nEste evento es exclusivamente para l@s soci@s. Si no lo eres\, sacando la entrada «general» te incluye la cuota ANUAL de soci@ (para lo que se solicitará también el DNI)
URL:https://www.centrolatortuga.com/espectaculo/raras-musicas-sesion-184/
LOCATION:Madrid
CATEGORIES:Libre improvisación
ATTACH;FMTTYPE=image/png:https://www.centrolatortuga.com/wp-content/uploads/2026/02/raras.png
ORGANIZER;CN="CCIC La Tortuga":MAILTO:centrolatortuga@gmail.com
END:VEVENT
BEGIN:VEVENT
DTSTART;TZID=Europe/Madrid:20260207T200000
DTEND;TZID=Europe/Madrid:20260207T210000
DTSTAMP:20260421T133346
CREATED:20260122T141231Z
LAST-MODIFIED:20260122T141724Z
UID:17267-1770494400-1770498000@www.centrolatortuga.com
SUMMARY:Verano animal - poesía encordada
DESCRIPTION:Creación escénico-musical a partir del poemario ‘Verano animal’\, de Esmeralda R. Vaquero\, con el acompañamiento de Marina Gutiérrez. \nPoesía y violín\, cuerda y voz\, junto a otros elementos que harán de este encuentro un hogar feroz de música y palabra. \n  \nCompra tus entradas aqui: ENTRADIUM
URL:https://www.centrolatortuga.com/espectaculo/verano-animal-poesia-encordada-3/
LOCATION:La Tortuga\, Calle de la espada 6 \, madrid\, Madrid\, España
CATEGORIES:Acústico,Concierto,Poesía
ATTACH;FMTTYPE=image/jpeg:https://www.centrolatortuga.com/wp-content/uploads/2026/01/Poesia-encordada-redes.jpg
ORGANIZER;CN="CCIC La Tortuga":MAILTO:centrolatortuga@gmail.com
END:VEVENT
BEGIN:VEVENT
DTSTART;TZID=Europe/Madrid:20260214T113000
DTEND;TZID=Europe/Madrid:20260214T123000
DTSTAMP:20260421T133346
CREATED:20260205T184551Z
LAST-MODIFIED:20260205T184551Z
UID:17339-1771068600-1771072200@www.centrolatortuga.com
SUMMARY:¡Hola! Soy Lola
DESCRIPTION:Cuentacuentos para niños y niñas de 6 meses a 3 años \nLa disociación de brazos y piernas\, la gran variedad de contrarios que existen\, nos servirá para ir contando cuentos y jugar. Un espectáculo divertido donde los bebés participan desde el principio en la actividad.\nLa despistada rana Lolita no aparece por ninguna parte. Tenía que estar ya con nosotros para contarnos cuentos\, sus aventuras y presentarnos a sus amigos pero no aparece.\nLolita ha venido feísima\, no parece ni una rana ni parece nada. Es tan despistada que ha aparecido sin los brazos\, sin las piernas\, sin los ojos…Todo lo ha perdido\, así que nos toca buscar\, a ver si encontramos algo de lo que ha perdido. \n  \nJamacuco Cuentacuentos se creó en el verano de 1993. En sus inicios\, la propuesta de dicho grupo era de narración para todos los públicos. En la actualidad se ha consolidado como un Grupo que trabaja especialmente con los niños y jóvenes. \nEste evento es exclusivamente para l@s soci@s. Si no lo eres\, sacando la entrada «general» te incluye la cuota ANUAL de soci@ (para lo que se solicitará también el DNI)
URL:https://www.centrolatortuga.com/espectaculo/hola-soy-lola/
LOCATION:La Tortuga\, Calle de la espada 6 \, madrid\, Madrid\, España
ATTACH;FMTTYPE=image/jpeg:https://www.centrolatortuga.com/wp-content/uploads/2026/02/Actividades-2.jpg
ORGANIZER;CN="CCIC La Tortuga":MAILTO:centrolatortuga@gmail.com
END:VEVENT
BEGIN:VEVENT
DTSTART;TZID=Europe/Madrid:20260214T203000
DTEND;TZID=Europe/Madrid:20260214T223000
DTSTAMP:20260421T133346
CREATED:20260206T112845Z
LAST-MODIFIED:20260206T164111Z
UID:17343-1771101000-1771108200@www.centrolatortuga.com
SUMMARY:Raras Músicas sesión 185
DESCRIPTION:Tomás Flórez \nArtista sonoro y músico experimental \nLondres\, 1982 \nTomás Flórez trabaja desde 2015 en el campo de la experimentación sonora\, principalmente a través de la música ambient y la improvisación libre. \nHa actuado en La Casa Encendida\, en varios ciclos de conciertos y festivales organizados por el colectivo madrileño de improvisación libre Raras Músicas\, en el ciclo de arte sonoro CAAMSonora del Centro Atlántico de Arte Moderno de Gran Canaria\, en el festival de música experimental Ruido Vírico y en la Fonoteca de Arte Sonoro y Música Experimental de Murcia. \nAdemás de varias colaboraciones con integrantes del colectivo madrileño de improvisación libre Raras Músicas\, forma parte de la plataforma Room 603 dedicada a la producción musical\, experimentación audiovisual y al diseño de espacios sonoros para teatro. Además es miembro del cuarteto de improvisación electroacústica LÅANG y del dúo de música ambient ANGLE con los que ha publicado varios trabajos. También ha trabajado en los proyectos musicales Several Circles y Escape From Vallecas asociados a Room 603. \nhttp://tomasflorez.com \nRARAS MÚSICAS comenzó su actividad en Madrid en febrero de 2013\, produciendo eventos que presentan a músicos y colectivos dedicados principalmente a la exploración musical. Tiene como objetivo presentar el espectro más amplio posible de lo raro\, incluyendo composición e improvisación\, estilos o experimentación libre y su interacción con otras disciplinas artísticas. Los fundadores iniciales fueron Gregorio Kazaroff e Ivor R. Tamplin\, a partir de la idea inicial propuesta por Gregorio. Más tarde se incorporaron Javier Entonado\, Jorge Cabadas\, Ricardo Tejero y Mariana Piñeiro. \nHasta la fecha han participado músicos y artistas locales\, nacionales e internacionales. Con ello\, RARAS MÚSICAS se ha ido haciendo un hueco en la escena experimental de Madrid\, apareciendo en la sección “Flores” de Oro Molido\, la revista nacional de referencia sobre experimentación musical y arte sonoro. \nENTRADAS \nMes del aniversario del La Tortuga. La entrada incluye consumición \nEste evento es exclusivamente para l@s soci@s. Si no lo eres\, sacando la entrada «general» te incluye la cuota ANUAL de soci@ (para lo que se solicitará también el DNI)
URL:https://www.centrolatortuga.com/espectaculo/raras-musicas-sesion-185/
LOCATION:Madrid
CATEGORIES:Libre improvisación
ATTACH;FMTTYPE=image/jpeg:https://www.centrolatortuga.com/wp-content/uploads/2026/02/RM-185.jpeg
ORGANIZER;CN="CCIC La Tortuga":MAILTO:centrolatortuga@gmail.com
END:VEVENT
BEGIN:VEVENT
DTSTART;TZID=Europe/Madrid:20260220T172000
DTEND;TZID=Europe/Madrid:20260220T210000
DTSTAMP:20260421T133346
CREATED:20260207T153110Z
LAST-MODIFIED:20260207T153246Z
UID:17362-1771608000-1771621200@www.centrolatortuga.com
SUMMARY:Muestra Escuela de Música
DESCRIPTION:Se acercan las primeras muestras de este curso de la Escuela de Música. Un espacio de intercambio entre alumnes de las diferentes disciplinas y con el público que quiera asomarse al proceso de aprendizaje. \nNervios\, ganas e ilusión por encontrarnos \n¡Te esperamos! \nDado que nuestro aforo es limitado\, cada entrada vale para una sesión. Si quieres asistir a más de una sesión tendrás que adquirir otra entrada. Asegúrate de que la fecha y la sesión son correctas antes de comprarlas. Si tienes dudas escribe a: centrolatortuga@gmail.com \nEsta es la programación del fin de semana: \nVIERNES 20 de FEBRERO \nSESIÓN 1 — 17:20 \n\nEl Pescador – Totó La Momposina\nMe cuesta tanto olvidarte – Mecano\nMinigrupo 2 «Don’t let me be misunderstood» (The Animals / Nina Simone) y «White rabbit» (Jefferson Airplane)\nMinigrupo 9 «Harvest moon» de neil young y Green River (Elliott Murphy)\nDos Gardenias – Isolina Carrillo\n\nSESIÓN 2 — 18:35 \n\nArmonía-combo 1 (Las Cringes) – Going up the Country (Canned Heat)\nMinigrupo 12 My Girl de The Temptations\nThriller – Michael Jackson\nThe thrill is gone. B.B.King.\nMinigrupo 8 «Animal Instinct» (The Cranberries). «Hit the Road Jack» (Ray Charles/ Marjorie Hendrix). «Feeling good» (Muse).\n\nSESIÓN 3 — 19:50 \n\nArmonía-combo 2 M 19:00 – El Bus (Composición propia – Julian Donoso)\nDon’t think twice it’s alright – Bob Dylan\nNunca es suficiente – Natalia Lafourcade\nArmonía-combo 1 M 20:00 – No light\, no light (Florence and the machine)\nMinigrupo 5 «Andorinha»\, (Julián y Nacho Donoso; Fernando Rejón)\nSoftly in a morning sunrise – Romberg y Hammerstein\nHand in my pocket – Alanis Morissette\n\n  \nSÁBADO 21 DE FEBRERO \nSESIÓN 1 — 17:20 \n\nSin ti no soy nada – Amaral\nCombo X19:30\nFriday I’m in Love – The Cure\nZombie – Dolores O’Riordan – The Cranberries\nBitch de Meredith Brooks\nMinigrupo 10 «There Is a Light That Never Goes Out\, The Smiths.»\n\nSESIÓN 2 — 18:40 \n\nVolar – El Kanka\nMinigrupo 6 La Flor de la canela de Chabuca Granda\nLa llorona – Popular\nArmonía-combo 2 – M 18:00 – Corazones en el lodo (Juan C. Pascual)\nMilonga del moro judío – Jorge Drexler\nMinigrupo 7 (Mama Huevo) «Proud Mary» versión de Ike y Tina Turner y Versión-tributo a Radio Futura\n\nSESIÓN 3 — 20:05 \n\nKnockin’ on heaven’s door – Bob Dylan\nMinigrupo 1 «A todas horas»\, «La canción con mí» y «Canción por determinar»\nMinigrupo 3 Beautiful Stranger (Madonna); My Favorite Game (The Cardigans)\nBeggin – Maneskin\nI will survive – Cake\n\nENTRADAS \nEste evento es exclusivamente para l@s soci@s. Si no lo eres\, sacando la entrada «general» te incluye la cuota ANUAL de soci@ (para lo que se solicitará también el DNI)
URL:https://www.centrolatortuga.com/espectaculo/muestra-escuela-de-musica/
LOCATION:La Tortuga\, Calle de la espada 6 \, madrid\, Madrid\, España
CATEGORIES:Muestra
ATTACH;FMTTYPE=image/jpeg:https://www.centrolatortuga.com/wp-content/uploads/2026/02/Actividades-4.jpg
ORGANIZER;CN="CCIC La Tortuga":MAILTO:centrolatortuga@gmail.com
END:VEVENT
BEGIN:VEVENT
DTSTART;TZID=Europe/Madrid:20260221T172000
DTEND;TZID=Europe/Madrid:20260221T210000
DTSTAMP:20260421T133346
CREATED:20260207T153337Z
LAST-MODIFIED:20260207T153337Z
UID:17371-1771694400-1771707600@www.centrolatortuga.com
SUMMARY:Muestra Escuela de Música
DESCRIPTION:Se acercan las primeras muestras de este curso de la Escuela de Música. Un espacio de intercambio entre alumnes de las diferentes disciplinas y con el público que quiera asomarse al proceso de aprendizaje. \nNervios\, ganas e ilusión por encontrarnos \n¡Te esperamos! \nDado que nuestro aforo es limitado\, cada entrada vale para una sesión. Si quieres asistir a más de una sesión tendrás que adquirir otra entrada. Asegúrate de que la fecha y la sesión son correctas antes de comprarlas. Si tienes dudas escribe a: centrolatortuga@gmail.com \nEsta es la programación del fin de semana: \nVIERNES 20 de FEBRERO \nSESIÓN 1 — 17:20 \n\nEl Pescador – Totó La Momposina\nMe cuesta tanto olvidarte – Mecano\nMinigrupo 2 «Don’t let me be misunderstood» (The Animals / Nina Simone) y «White rabbit» (Jefferson Airplane)\nMinigrupo 9 «Harvest moon» de neil young y Green River (Elliott Murphy)\nDos Gardenias – Isolina Carrillo\n\nSESIÓN 2 — 18:35 \n\nArmonía-combo 1 (Las Cringes) – Going up the Country (Canned Heat)\nMinigrupo 12 My Girl de The Temptations\nThriller – Michael Jackson\nThe thrill is gone. B.B.King.\nMinigrupo 8 «Animal Instinct» (The Cranberries). «Hit the Road Jack» (Ray Charles/ Marjorie Hendrix). «Feeling good» (Muse).\n\nSESIÓN 3 — 19:50 \n\nArmonía-combo 2 M 19:00 – El Bus (Composición propia – Julian Donoso)\nDon’t think twice it’s alright – Bob Dylan\nNunca es suficiente – Natalia Lafourcade\nArmonía-combo 1 M 20:00 – No light\, no light (Florence and the machine)\nMinigrupo 5 «Andorinha»\, (Julián y Nacho Donoso; Fernando Rejón)\nSoftly in a morning sunrise – Romberg y Hammerstein\nHand in my pocket – Alanis Morissette\n\n  \nSÁBADO 21 DE FEBRERO \nSESIÓN 1 — 17:20 \n\nSin ti no soy nada – Amaral\nCombo X19:30\nFriday I’m in Love – The Cure\nZombie – Dolores O’Riordan – The Cranberries\nBitch de Meredith Brooks\nMinigrupo 10 «There Is a Light That Never Goes Out\, The Smiths.»\n\nSESIÓN 2 — 18:40 \n\nVolar – El Kanka\nMinigrupo 6 La Flor de la canela de Chabuca Granda\nLa llorona – Popular\nArmonía-combo 2 – M 18:00 – Corazones en el lodo (Juan C. Pascual)\nMilonga del moro judío – Jorge Drexler\nMinigrupo 7 (Mama Huevo) «Proud Mary» versión de Ike y Tina Turner y Versión-tributo a Radio Futura\n\nSESIÓN 3 — 20:05 \n\nKnockin’ on heaven’s door – Bob Dylan\nMinigrupo 1 «A todas horas»\, «La canción con mí» y «Canción por determinar»\nMinigrupo 3 Beautiful Stranger (Madonna); My Favorite Game (The Cardigans)\nBeggin – Maneskin\nI will survive – Cake\n\nENTRADAS \nEste evento es exclusivamente para l@s soci@s. Si no lo eres\, sacando la entrada «general» te incluye la cuota ANUAL de soci@ (para lo que se solicitará también el DNI)
URL:https://www.centrolatortuga.com/espectaculo/muestra-escuela-de-musica-2/
LOCATION:La Tortuga\, Calle de la espada 6 \, madrid\, Madrid\, España
CATEGORIES:Muestra
ATTACH;FMTTYPE=image/jpeg:https://www.centrolatortuga.com/wp-content/uploads/2026/02/Actividades-4.jpg
ORGANIZER;CN="CCIC La Tortuga":MAILTO:centrolatortuga@gmail.com
END:VEVENT
BEGIN:VEVENT
DTSTART;TZID=Europe/Madrid:20260227T210000
DTEND;TZID=Europe/Madrid:20260227T220000
DTSTAMP:20260421T133346
CREATED:20260122T135948Z
LAST-MODIFIED:20260122T141601Z
UID:17264-1772226000-1772229600@www.centrolatortuga.com
SUMMARY:Basta Juan y Los Fantasmas
DESCRIPTION:Basta Juan y Los Fantasmas es un proyecto musical que mezcla Latin Rock\, Garage\, baladas y ritmos para bailar en formato eléctrico. \nSomos Basta Juan en Voz y Guitarra eléctrica\, José en Guitarra eléctrica y acústica\, Andy en Saxofón y coros\, Jorge en Batería y Javi en Bajo. Residimos en Madrid. \nCon más de 13 canciones originales con las cuales nos hemos presentado en ciudades como Madrid\, Valencia\, Logroño y Buenos Aires. \n  \nCompra tus entradas aquí: ENTRADIUM \n 
URL:https://www.centrolatortuga.com/espectaculo/basta-juan-y-los-fantasmas-2/
LOCATION:La Tortuga\, Calle de la espada 6 \, madrid\, Madrid\, España
CATEGORIES:Concierto
ATTACH;FMTTYPE=image/png:https://www.centrolatortuga.com/wp-content/uploads/2026/01/Flyer_TORTUGA_27Feb26_Post1080x1440.png
ORGANIZER;CN="CCIC La Tortuga":MAILTO:centrolatortuga@gmail.com
END:VEVENT
END:VCALENDAR